BEGIN:VCALENDAR
VERSION:2.0
PRODID:-//ChamberMaster//Event Calendar 2.0//EN
METHOD:PUBLISH
X-PUBLISHED-TTL:P3D
REFRESH-INTERVAL:P3D
CALSCALE:GREGORIAN
BEGIN:VEVENT
DTSTART:20240327T170000Z
DTEND:20240327T180000Z
X-MICROSOFT-CDO-ALLDAYEVENT:FALSE
SUMMARY:Zonta Club of Spearfish
DESCRIPTION:Mission: to serve the Spearfish community by recognizing and supporting the needs of women and children.
X-ALT-DESC;FMTTYPE=text/html:<span style="color: rgb(5\, 5\, 5)\; font-family: &quot\;Segoe UI Historic&quot\;\, &quot\;Segoe UI&quot\;\, Helvetica\, Arial\, sans-serif\; font-size: 15px\; text-align: center\;">Mission: to serve the Spearfish community by recognizing and supporting the needs of women and children.</span>
LOCATION:Guadalajara Mexican Restaurant and Bar\, 83 US-14\, Spearfish\, SD 57783
UID:e.2381.30150
SEQUENCE:3
DTSTAMP:20260420T055832Z
URL:https://business.spearfishchamber.org/events/details/zonta-club-of-spearfish-30150
END:VEVENT

END:VCALENDAR
