BEGIN:VCALENDAR
VERSION:2.0
PRODID:-//ChamberMaster//Event Calendar 2.0//EN
METHOD:PUBLISH
X-PUBLISHED-TTL:P3D
REFRESH-INTERVAL:P3D
CALSCALE:GREGORIAN
BEGIN:VEVENT
DTSTART:20210626T140000Z
DTEND:20210626T180000Z
X-MICROSOFT-CDO-ALLDAYEVENT:FALSE
SUMMARY:Young Life Trap Shoot
DESCRIPTION:7th Annual Fundraiser benefiting Young Life- and outreach program to high school students. Teams of 5 shoot to compete for highest score\, adults and students can participate. Individual prizes given for top shooters and top teams.\n\n\n\nSponsored by Neiman Enterprises\, Prestige Auto Sales\, and YoungLife
X-ALT-DESC;FMTTYPE=text/html:7th Annual Fundraiser benefiting Young Life- and outreach program to high school students. Teams of 5 shoot to compete for highest score\, adults and students can participate. Individual prizes given for top shooters and top teams.<br />\n<br />\nSponsored by Neiman Enterprises\, Prestige Auto Sales\, and YoungLife
LOCATION:Spearfish Rifle and Trap Club 5503 Clean Water Road
UID:e.2381.27846
SEQUENCE:3
DTSTAMP:20260422T231200Z
URL:https://business.spearfishchamber.org/events/details/young-life-trap-shoot-27846
END:VEVENT

END:VCALENDAR
