BEGIN:VCALENDAR
VERSION:2.0
PRODID:-//ChamberMaster//Event Calendar 2.0//EN
METHOD:PUBLISH
X-PUBLISHED-TTL:P3D
REFRESH-INTERVAL:P3D
CALSCALE:GREGORIAN
BEGIN:VEVENT
DTSTART:20230723T000000Z
DTEND:20230723T020000Z
X-MICROSOFT-CDO-ALLDAYEVENT:FALSE
SUMMARY:Women’s Sip & Swing Golf Clinic - Open to public
DESCRIPTION:In honor of Women's Golf Week\, we will be hosting a Women's Sip & Swing Golf Clinic. Pre-registration is required.
X-ALT-DESC;FMTTYPE=text/html:In honor of Women&rsquo\;s Golf Week\, we will be hosting a Women&rsquo\;s Sip &amp\; Swing Golf Clinic. Pre-registration is required.
LOCATION:The Golf Club at Devils Tower
UID:e.2381.29738
SEQUENCE:3
DTSTAMP:20260420T210725Z
URL:https://business.spearfishchamber.org/events/details/women-s-sip-swing-golf-clinic-open-to-public-29738
END:VEVENT

END:VCALENDAR
