BEGIN:VCALENDAR
VERSION:2.0
PRODID:-//ChamberMaster//Event Calendar 2.0//EN
METHOD:PUBLISH
X-PUBLISHED-TTL:P3D
REFRESH-INTERVAL:P3D
CALSCALE:GREGORIAN
BEGIN:VEVENT
DTSTART:20240312T163000Z
DTEND:20240312T180000Z
X-MICROSOFT-CDO-ALLDAYEVENT:FALSE
SUMMARY:Women In History Luncheon: Women Who Advocate (Spearfish)
DESCRIPTION:March is National Women in History Month. To celebrate\, Kelly Kirk joins us to showcase 'Women Who Advocate' at the March WIN. Join us for our Women In Networking (WIN) Luncheon on March 12th\, from 11:30 a.m. - 1:00 p.m. at The Joy Center in Spearfish. Lunch is catered by Cheyenne Crossing. Want to promote your business or event? Come around 11 a.m. and bring business cards or handouts to place at each table setting (Approx. 40). For more information\, visit our site https://sdceo.ecenterdirect.com/events/1018893
X-ALT-DESC;FMTTYPE=text/html:March is National Women in History Month. To celebrate\, Kelly Kirk joins us to showcase &#39\;Women Who Advocate&#39\; at the March WIN. Join us for our Women In Networking (WIN) Luncheon on March 12th\, from 11:30 a.m. - 1:00 p.m. at The Joy Center in Spearfish. Lunch is catered by Cheyenne Crossing. Want to promote your business or event? Come around 11 a.m. and bring business cards or handouts to place at each table setting (Approx. 40). For more information\, visit our site https://sdceo.ecenterdirect.com/events/1018893
LOCATION:The Joy Center 1351 St Joe St.\, Spearfish SD 57783
UID:e.2381.30133
SEQUENCE:3
DTSTAMP:20260420T133050Z
URL:https://business.spearfishchamber.org/events/details/women-in-history-luncheon-women-who-advocate-spearfish-30133
END:VEVENT

END:VCALENDAR
