BEGIN:VCALENDAR
VERSION:2.0
PRODID:-//ChamberMaster//Event Calendar 2.0//EN
METHOD:PUBLISH
X-PUBLISHED-TTL:P3D
REFRESH-INTERVAL:P3D
CALSCALE:GREGORIAN
BEGIN:VEVENT
DTSTART:20240323T220000Z
DTEND:20240324T020000Z
X-MICROSOFT-CDO-ALLDAYEVENT:FALSE
SUMMARY:Wine Experience
DESCRIPTION:Our season's most exclusive event! Being a guest at the first Matthews Wine Experience will be a memorable evening. Two dozen wine varieties will be available to sample that have been hand-selected by Philips 66\, Exit 14\, and every ticket holder receives an etched Riedel wine glass! Live and silent auctions will be held with local artworks and baskets from a range of business donors. A live painting demonstration in this historic atmosphere is not one to be missed and works will be auctioned at the end of the evening! Tickets are on sale. They will be available during business hours in the gallery\, by phone (605.642.7973)\, or online. All tickets are $50. Sponsored by Philips 66\, Exit 14
X-ALT-DESC;FMTTYPE=text/html:Our season&rsquo\;s most exclusive event! Being a guest at the first Matthews Wine Experience will be a memorable evening. Two dozen wine varieties will be available to sample that have been hand-selected by Philips 66\, Exit 14\, and every ticket holder receives an etched Riedel wine glass! Live and silent auctions will be held with local artworks and baskets from a range of business donors. A live painting demonstration in this historic atmosphere is not one to be missed and works will be auctioned at the end of the evening! Tickets are on sale. They will be available during business hours in the gallery\, by phone (605.642.7973)\, or online. All tickets are $50. Sponsored by Philips 66\, Exit 14
LOCATION:Matthews Opera House - 612 N. Main St\, Spearfish\, SD 57783
UID:e.2381.30160
SEQUENCE:3
DTSTAMP:20260420T053539Z
URL:https://business.spearfishchamber.org/events/details/wine-experience-30160
END:VEVENT

END:VCALENDAR
