BEGIN:VCALENDAR
VERSION:2.0
PRODID:-//ChamberMaster//Event Calendar 2.0//EN
METHOD:PUBLISH
X-PUBLISHED-TTL:P3D
REFRESH-INTERVAL:P3D
CALSCALE:GREGORIAN
BEGIN:VEVENT
DTSTART:20220710T203000Z
DTEND:20220710T221500Z
X-MICROSOFT-CDO-ALLDAYEVENT:FALSE
SUMMARY:William Shakespeare’s Long Lost Play (Abridged) By Reed Martin & Austin Tichenor
DESCRIPTION:Doth thou enjoy fast-paced\, ridiculous\, and satirical comedies? Then this is the show for you! Three actors stumbled across Shakespeare's long lost first play in a parking lot pot-hole\, and have decided to perform it in Spearfish\, South Dakota. Caught between wanting to perform the literary masterpiece as is and getting the show done in a reasonable time\, the three actors scramble to perform a multitude of characters and stories. Please join us in our theatre for a night of laughter and fun!
X-ALT-DESC;FMTTYPE=text/html:Doth thou enjoy fast-paced\, ridiculous\, and satirical comedies? Then this is the show for you! Three actors stumbled across Shakespeare&rsquo\;s long lost first play in a parking lot pot-hole\, and have decided to perform it in Spearfish\, South Dakota. Caught between wanting to perform the literary masterpiece as is and getting the show done in a reasonable time\, the three actors scramble to perform a multitude of characters and stories. Please join us in our theatre for a night of laughter and fun!
LOCATION:Black Hills State University\, Black Box Theatre in Woodburn
UID:e.2381.29072
SEQUENCE:3
DTSTAMP:20260424T033807Z
URL:https://business.spearfishchamber.org/events/details/william-shakespeare-s-long-lost-play-abridged-by-reed-martin-austin-tichenor-06-12-2022-29072
END:VEVENT

END:VCALENDAR
