BEGIN:VCALENDAR
VERSION:2.0
PRODID:-//ChamberMaster//Event Calendar 2.0//EN
METHOD:PUBLISH
X-PUBLISHED-TTL:P3D
REFRESH-INTERVAL:P3D
CALSCALE:GREGORIAN
BEGIN:VEVENT
DTSTART:20240313T013000Z
DTEND:20240313T023000Z
X-MICROSOFT-CDO-ALLDAYEVENT:FALSE
SUMMARY:VFW Post 5860 Meeting
DESCRIPTION:Monthly Post 5860 meeting.   Veterans welcome
X-ALT-DESC;FMTTYPE=text/html:Monthly Post 5860 meeting.&nbsp\; &nbsp\;Veterans welcome
LOCATION:VFW Club\, 3102 E. Fairgrounds Loop\, Spearfish\, SD
UID:e.2381.26756
SEQUENCE:3
DTSTAMP:20260420T055222Z
URL:https://business.spearfishchamber.org/events/details/vfw-5860-meeting-03-12-2024-26756
END:VEVENT

END:VCALENDAR
