BEGIN:VCALENDAR
VERSION:2.0
PRODID:-//ChamberMaster//Event Calendar 2.0//EN
METHOD:PUBLISH
X-PUBLISHED-TTL:P3D
REFRESH-INTERVAL:P3D
CALSCALE:GREGORIAN
BEGIN:VEVENT
DTSTART:20240324T170000Z
DTEND:20240324T210000Z
X-MICROSOFT-CDO-ALLDAYEVENT:FALSE
SUMMARY:Spring Lunch and Concert
DESCRIPTION:The fun begins with a noon lunch catered by Old West Dutch Oven Catering Company. Tickets are required. Music provided by Chris Davis and Rod Garnett Lunch will be followed by a concert\, beginning at 1:00pm\, featuring Spearfish United Methodist Church musicians and Randy Hedge and Friends. This will be a free will donation event.
X-ALT-DESC;FMTTYPE=text/html:The fun begins with a noon lunch catered by Old West Dutch Oven Catering Company. Tickets are required. Music provided by Chris Davis and Rod Garnett Lunch will be followed by a concert\, beginning at 1:00pm\, featuring Spearfish United Methodist Church musicians and Randy Hedge and Friends. This will be a free will donation event.
LOCATION:Spearfish United Methodist Church 845 N\, 5th Street Spearfish
UID:e.2381.30154
SEQUENCE:3
DTSTAMP:20260420T053833Z
URL:https://business.spearfishchamber.org/events/details/spring-lunch-and-concert-30154
END:VEVENT

END:VCALENDAR
