BEGIN:VCALENDAR
VERSION:2.0
PRODID:-//ChamberMaster//Event Calendar 2.0//EN
METHOD:PUBLISH
X-PUBLISHED-TTL:P3D
REFRESH-INTERVAL:P3D
CALSCALE:GREGORIAN
BEGIN:VEVENT
DTSTART:20240311T233000Z
DTEND:20240312T003000Z
X-MICROSOFT-CDO-ALLDAYEVENT:FALSE
SUMMARY:Spearfish Optimist Club
DESCRIPTION:The purpose of the club is to develop Optimism as a philosophy of life\; to promote an active interest in good government and civic affairs\; to inspire respect for the law\; to promote patriotism and work for international accord and friendship among all people\; to aide and encourage the development of youth.  The Spearfish Optimist Club is dedicated to supporting youth-oriented programs and activities within the Spearfish community.  We do this by conducting minimal fundraisers with maximum benefits that we then grant to social\, academic\, and athletic youth groups.
X-ALT-DESC;FMTTYPE=text/html:<p style="margin: 0px 0px 1.71429rem\; padding: 0px\; border: 0px\; font-size: 14px\; vertical-align: baseline\; line-height: 1.71429\; color: rgb(68\, 68\, 68)\; font-family: &quot\;Open Sans&quot\;\, Helvetica\, Arial\, sans-serif\; background-color: rgb(255\, 255\, 255)\;">The purpose of the club is to develop Optimism as a philosophy of life\; to promote an active interest in good government and civic affairs\; to inspire respect for the law\; to promote patriotism and work for international accord and friendship among all people\; to aide and encourage the development of youth.&nbsp\;&nbsp\;The Spearfish Optimist Club is dedicated to supporting youth-oriented programs and activities within the Spearfish community.&nbsp\; We do this by conducting minimal fundraisers with maximum benefits that we then grant to social\, academic\, and athletic youth groups.</p>\n\n<p style="margin: 0px 0px 1.71429rem\; padding: 0px\; border: 0px\; font-size: 14px\; vertical-align: baseline\; line-height: 1.71429\; color: rgb(68\, 68\, 68)\; font-family: &quot\;Open Sans&quot\;\, Helvetica\, Arial\, sans-serif\; background-color: rgb(255\, 255\, 255)\;">&nbsp\;</p>\n
LOCATION:Killian's\, 539 W Jackson Blvd.\, Spearfish
UID:e.2381.23142
SEQUENCE:3
DTSTAMP:20260420T054728Z
URL:https://business.spearfishchamber.org/events/details/spearfish-optimist-club-03-11-2024-23142
END:VEVENT

END:VCALENDAR
