BEGIN:VCALENDAR
VERSION:2.0
PRODID:-//ChamberMaster//Event Calendar 2.0//EN
METHOD:PUBLISH
X-PUBLISHED-TTL:P3D
REFRESH-INTERVAL:P3D
CALSCALE:GREGORIAN
BEGIN:VEVENT
DTSTART:20240409T000000Z
DTEND:20240409T010000Z
X-MICROSOFT-CDO-ALLDAYEVENT:FALSE
SUMMARY:Spearfish Lions Club
DESCRIPTION:a service organization to better the community of Spearfish\, Sd
X-ALT-DESC;FMTTYPE=text/html:<span style="font-family:calibri\,sans-serif\;"><span style="font-size:12.0pt\;">a service organization to better the community of Spearfish\, Sd</span></span>
LOCATION:Spearfish Holiday Inn
UID:e.2381.9269
SEQUENCE:3
DTSTAMP:20260421T014202Z
URL:https://business.spearfishchamber.org/events/details/spearfish-lions-club-04-08-2024-9269
END:VEVENT

END:VCALENDAR
