BEGIN:VCALENDAR
VERSION:2.0
PRODID:-//ChamberMaster//Event Calendar 2.0//EN
METHOD:PUBLISH
X-PUBLISHED-TTL:P3D
REFRESH-INTERVAL:P3D
CALSCALE:GREGORIAN
BEGIN:VEVENT
DTSTART:20240326T180000Z
DTEND:20240326T190000Z
X-MICROSOFT-CDO-ALLDAYEVENT:FALSE
SUMMARY:Spearfish Kiwanis Club
DESCRIPTION:The Kiwanis meet every Tuesday
X-ALT-DESC;FMTTYPE=text/html:The Kiwanis meet every Tuesday
LOCATION:At the Spearfish Rec Center\, 122 Recreation Ln.\, Spearfish
UID:e.2381.28936
SEQUENCE:3
DTSTAMP:20260420T055027Z
URL:https://business.spearfishchamber.org/events/details/spearfish-kiwanis-club-03-26-2024-28936
END:VEVENT

END:VCALENDAR
