BEGIN:VCALENDAR
VERSION:2.0
PRODID:-//ChamberMaster//Event Calendar 2.0//EN
METHOD:PUBLISH
X-PUBLISHED-TTL:P3D
REFRESH-INTERVAL:P3D
CALSCALE:GREGORIAN
BEGIN:VEVENT
DTSTART:20240318T233000Z
DTEND:20240319T013000Z
X-MICROSOFT-CDO-ALLDAYEVENT:FALSE
SUMMARY:Spearfish City Council Meeting
DESCRIPTION:Spearfish City Council Meeting
X-ALT-DESC;FMTTYPE=text/html:Spearfish City Council Meeting
LOCATION:Council Chambers - 2nd Floor City Hall
UID:e.2381.9940
SEQUENCE:3
DTSTAMP:20260420T060049Z
URL:https://business.spearfishchamber.org/events/details/spearfish-city-council-meeting-03-18-2024-9940
END:VEVENT

END:VCALENDAR
