BEGIN:VCALENDAR
VERSION:2.0
PRODID:-//ChamberMaster//Event Calendar 2.0//EN
METHOD:PUBLISH
X-PUBLISHED-TTL:P3D
REFRESH-INTERVAL:P3D
CALSCALE:GREGORIAN
BEGIN:VEVENT
DTSTART:20220215T130000Z
DTEND:20220216T050000Z
X-MICROSOFT-CDO-ALLDAYEVENT:FALSE
SUMMARY:Spearfish & BHSU Day at the Capitol
DESCRIPTION:Online registration is closed. Contact Melissa at 605-642-2626 to check for availability. \n\n\n\nJoin us on the bus to Pierre!\n\nCommunity partners are teaming up to showcase Spearfish and Black Hills State University in Pierre. \n\n	Meet with the SD Board of Regents\, Department of Education\, Governor's Office of Economic Development\, Department of Tourism\n	Enjoy Lunch with our District 31 Legislators \n	Join us on the balcony of the House and Senate Galleries \n	Wrap up the day with an evening reception \n\n\n$20 for the whole day: Bus is free\, lunch is $20\n\n  (ITINERARY below)\n\n\n\nPartnership among: Black Hills State University\, City of Spearfish\, Spearfish Chamber\, Visit Spearfish\, Spearfish Economic Development Corporation\, Black Hills State University Alumni Association\, Northern Black Hills Rotary\, and Platinum Car Brokers.\n\n\n\nITINERARY\n\n5:45 AM         Meet at Spearfish Chamber for role call \n\n6:00 AM         Bus Departs \n\n10:30 AM       Arrive at Capitol. Head to Capitol Lake Visitor Center \n\n10:45 AM       SD Board of Regents Executive Director Dr. Brian Maher \n\n11:30 AM      Lunch with District 31 Legislators (Box lunches from Korner Grocery) \n\n1:00 PM         Balcony Duty in House and Senate galleries \n\n2:00 PM         Photo Op on steps (potentially Governor?) \n\n2:15 PM         Return to Capitol Lake Visitor Center \n\n2:30 PM         SD Department of Education Secretary Tiffany Sanderson \n\n3:15 PM         SD Governor's Office of Economic Development (GOED) Deputy Commissioner Chris Schilken and Partner Relations Director Joe Fiala \n\n4:00 PM         SD Department of Tourism Secretary Jim Hagen \n\n4:45 PM         Bus to Red Roosa \n\n5:30 PM         Reception at Red Roosa \n\n8:00 PM         Bus departs for Spearfish\, bus will begin to load at 7:30 \n\n10:30 PM      Estimated arrival in Spearfish
X-ALT-DESC;FMTTYPE=text/html:<span style="font-family:arial\;"><span style="font-size:16px\;"><span style="color:#B22222\;">Online registration is closed. Contact Melissa at 605-642-2626 to check for availability.&nbsp\;</span><br />\n<br />\n<span style="color:#FF8C00\;"><strong>Join us on the bus to Pierre!</strong></span><br />\nCommunity partners are teaming up to showcase Spearfish and Black Hills State University in Pierre.&nbsp\;</span></span>\n<ul>\n	<li><span style="font-family:arial\;"><span style="font-size:16px\;">Meet&nbsp\;with the&nbsp\;SD Board of Regents\, Department of Education\,&nbsp\;Governor&rsquo\;s Office of Economic Development\,&nbsp\;Department of Tourism</span></span></li>\n	<li><span style="font-family:arial\;"><span style="font-size:16px\;">Enjoy&nbsp\;Lunch with our District 31 Legislators </span></span></li>\n	<li><span style="font-family:arial\;"><span style="font-size:16px\;">Join us on the balcony of the House and Senate Galleries </span></span></li>\n	<li><span style="font-family:arial\;"><span style="font-size:16px\;">Wrap up the day with an evening reception </span></span></li>\n</ul>\n\n<p><span style="font-family:arial\;"><span style="font-size:16px\;">$20 for the whole day: Bus is free\, lunch is $20</span></span><br />\n<span style="font-family: arial\; font-size: 16px\;">&#8203\;&#8203\;</span><em style="font-family: arial\; font-size: 12px\;">(ITINERARY below)</em><br />\n<br />\n<span style="font-family:arial\;"><span style="font-size:16px\;"><span style="color:#FF8C00\;"><strong>Partnership among: </strong></span>Black Hills State University\, City of Spearfish\, Spearfish Chamber\, Visit Spearfish\, Spearfish Economic Development Corporation\, Black Hills State University Alumni Association\, Northern Black Hills Rotary\, and Platinum Car Brokers.</span></span><br />\n<br />\n<span style="font-size:18px\;"><span style="color:#FF8C00\;"><strong>ITINERARY</strong></span></span><br />\n<strong><span style="font-family:arial\,sans-serif\;">5:45 AM</span></strong><span style="font-family:arial\,sans-serif\;">&nbsp\;&nbsp\;&nbsp\;&nbsp\;&nbsp\;&nbsp\;&nbsp\;&nbsp\; Meet at Spearfish Chamber for role call</span>&nbsp\;<br />\n<strong><span style="font-family:arial\,sans-serif\;">6:00 AM</span></strong><span style="font-family:arial\,sans-serif\;"> &nbsp\;&nbsp\;&nbsp\;&nbsp\;&nbsp\;&nbsp\;&nbsp\; Bus Departs</span>&nbsp\;<br />\n<strong><span style="font-family:arial\,sans-serif\;">10:30 AM</span></strong><span style="font-family:arial\,sans-serif\;">&nbsp\;&nbsp\;&nbsp\;&nbsp\;&nbsp\;&nbsp\; Arrive at Capitol. Head to Capitol Lake Visitor Center</span>&nbsp\;<br />\n<strong><span style="font-family:arial\,sans-serif\;">10:45 AM</span></strong><span style="font-family:arial\,sans-serif\;">&nbsp\;&nbsp\;&nbsp\;&nbsp\;&nbsp\;&nbsp\; SD Board of Regents Executive Director Dr. Brian Maher</span>&nbsp\;<br />\n<strong><span style="font-family:arial\,sans-serif\;">11:30 AM</span></strong><span style="font-family:arial\,sans-serif\;"> &nbsp\;&nbsp\;&nbsp\;&nbsp\; Lunch with District 31 Legislators (Box lunches from Korner Grocery)</span>&nbsp\;<br />\n<strong><span style="font-family:arial\,sans-serif\;">1:00 PM</span></strong><span style="font-family:arial\,sans-serif\;">&nbsp\; &nbsp\;&nbsp\;&nbsp\;&nbsp\;&nbsp\;&nbsp\; Balcony Duty in House and Senate galleries</span>&nbsp\;<br />\n<strong><span style="font-family:arial\,sans-serif\;">2:00 PM</span></strong><span style="font-family:arial\,sans-serif\;">&nbsp\;&nbsp\;&nbsp\;&nbsp\;&nbsp\;&nbsp\;&nbsp\;&nbsp\; Photo Op on steps (potentially Governor?)</span>&nbsp\;<br />\n<strong><span style="font-family:arial\,sans-serif\;">2:15 PM</span></strong><span style="font-family:arial\,sans-serif\;">&nbsp\;&nbsp\;&nbsp\;&nbsp\;&nbsp\;&nbsp\;&nbsp\;&nbsp\; Return to Capitol Lake Visitor Center</span>&nbsp\;<br />\n<strong><span style="font-family:arial\,sans-serif\;">2:30 PM</span></strong><span style="font-family:arial\,sans-serif\;">&nbsp\;&nbsp\;&nbsp\;&nbsp\;&nbsp\;&nbsp\;&nbsp\;&nbsp\; SD Department of Education Secretary Tiffany Sanderson</span>&nbsp\;<br />\n<strong><span style="font-family:arial\,sans-serif\;">3:15 PM</span></strong><span style="font-family:arial\,sans-serif\;">&nbsp\;&nbsp\;&nbsp\;&nbsp\;&nbsp\;&nbsp\;&nbsp\;&nbsp\; SD Governor&rsquo\;s Office of Economic Development (GOED) Deputy Commissioner Chris Schilken and Partner Relations Director Joe Fiala</span>&nbsp\;<br />\n<strong><span style="font-family:arial\,sans-serif\;">4:00 PM</span></strong><span style="font-family:arial\,sans-serif\;">&nbsp\; &nbsp\;&nbsp\;&nbsp\;&nbsp\;&nbsp\;&nbsp\; SD Department of Tourism Secretary Jim Hagen</span>&nbsp\;<br />\n<strong><span style="font-family:arial\,sans-serif\;">4:45 PM</span></strong><span style="font-family:arial\,sans-serif\;">&nbsp\; &nbsp\;&nbsp\;&nbsp\;&nbsp\;&nbsp\;&nbsp\; Bus to Red Roosa</span>&nbsp\;<br />\n<strong><span style="font-family:arial\,sans-serif\;">5:30 PM</span></strong><span style="font-family:arial\,sans-serif\;">&nbsp\; &nbsp\;&nbsp\;&nbsp\;&nbsp\;&nbsp\;&nbsp\; Reception at Red Roosa</span>&nbsp\;<br />\n<strong><span style="font-family:arial\,sans-serif\;">8:00 PM</span></strong><span style="font-family:arial\,sans-serif\;">&nbsp\; &nbsp\;&nbsp\;&nbsp\;&nbsp\;&nbsp\;&nbsp\; Bus departs for Spearfish\, bus will begin to load at 7:30</span>&nbsp\;<br />\n<strong><span style="font-family:arial\,sans-serif\;">10:30 PM</span></strong><span style="font-family:arial\,sans-serif\;">&nbsp\; &nbsp\;&nbsp\;&nbsp\; Estimated arrival in Spearfish</span></p>\n
LOCATION:
UID:e.2381.28514
SEQUENCE:3
DTSTAMP:20260421T153330Z
URL:https://business.spearfishchamber.org/events/details/spearfish-bhsu-day-at-the-capitol-28514
END:VEVENT

END:VCALENDAR
