BEGIN:VCALENDAR
VERSION:2.0
PRODID:-//ChamberMaster//Event Calendar 2.0//EN
METHOD:PUBLISH
X-PUBLISHED-TTL:P3D
REFRESH-INTERVAL:P3D
CALSCALE:GREGORIAN
BEGIN:VEVENT
DTSTART:20260328T200000Z
DTEND:20260328T220000Z
X-MICROSOFT-CDO-ALLDAYEVENT:FALSE
SUMMARY:Sound Circle
DESCRIPTION:The Spearfish Senior Center will be hosting a Sound Circle with live music on Saturday\, March 28th at 2pm-4pm. We will have a collection of local musicians playing various instruments. Join us for a fun afternoon with music & friends. Coffee & light refreshments will be served. Free will donation at the door. 100% of proceeds goes to our nonprofit organization. Open to the public-everyone welcome! The event will be held at the Spearfish Senior Center at 1306 N 10th St. in Spearfish.
X-ALT-DESC;FMTTYPE=text/html:The Spearfish Senior Center will be hosting a Sound Circle with live music on Saturday\, March 28th at 2pm-4pm. We will have a collection of local musicians playing various instruments. Join us for a fun afternoon with music &amp\; friends. Coffee &amp\; light refreshments will be served. Free will donation at the door. 100% of proceeds goes to our nonprofit organization. Open to the public-everyone welcome! The event will be held at the Spearfish Senior Center at 1306 N 10th St. in Spearfish.
LOCATION:Spearfish Senior Center
UID:e.2381.30711
SEQUENCE:3
DTSTAMP:20260424T020026Z
URL:https://business.spearfishchamber.org/events/details/sound-circle-03-28-2026-30711
END:VEVENT

END:VCALENDAR
