BEGIN:VCALENDAR
VERSION:2.0
PRODID:-//ChamberMaster//Event Calendar 2.0//EN
METHOD:PUBLISH
X-PUBLISHED-TTL:P3D
REFRESH-INTERVAL:P3D
CALSCALE:GREGORIAN
BEGIN:VEVENT
DTSTART;VALUE=DATE:20231110
DTEND;VALUE=DATE:20231111
TRANSP:TRANSPARENT
X-MICROSOFT-CDO-ALLDAYEVENT:TRUE
SUMMARY:Smiles for Freedom
DESCRIPTION:Donated dental care for veterans at Jackson Dental in Belle Fourche! Call (605) 892-6347 to schedule your appointment.
X-ALT-DESC;FMTTYPE=text/html:Donated dental care for veterans at Jackson Dental in Belle Fourche! Call (605) 892-6347 to schedule your appointment.
LOCATION:Jackson Dental 503 Jackson St. Belle Fourche\, SD
UID:e.2381.29870
SEQUENCE:3
DTSTAMP:20260420T052354Z
URL:https://business.spearfishchamber.org/events/details/smiles-for-freedom-29870
END:VEVENT

END:VCALENDAR
