BEGIN:VCALENDAR
VERSION:2.0
PRODID:-//ChamberMaster//Event Calendar 2.0//EN
METHOD:PUBLISH
X-PUBLISHED-TTL:P3D
REFRESH-INTERVAL:P3D
CALSCALE:GREGORIAN
BEGIN:VEVENT
DTSTART:20230718T233000Z
DTEND:20230719T013000Z
X-MICROSOFT-CDO-ALLDAYEVENT:FALSE
SUMMARY:RWLC presents 'Report to the People'
DESCRIPTION:The Republication Women of Lawrence County presents 'Report to the People'. South Dakota Canvassing. Election Integrity in South Dakota Elections.\n\n\n\n5:30 PM   Social Hour   Homemade Comfort Meal Available for $10\n\n6:30 PM   FREE Presentation\n\nSouth Dakota Canvassing Group
X-ALT-DESC;FMTTYPE=text/html:The Republication Women of Lawrence County presents &#39\;Report to the People&#39\;. South Dakota Canvassing. Election Integrity in South Dakota Elections.<br />\n<br />\n5:30 PM &mdash\; Social Hour &mdash\; Homemade Comfort Meal Available for $10<br />\n6:30 PM &mdash\; FREE Presentation<br />\nSouth Dakota Canvassing Group
LOCATION:The Joy Center 1351 St. Joe St. Spearfish\, SD
UID:e.2381.29815
SEQUENCE:3
DTSTAMP:20260420T205742Z
URL:https://business.spearfishchamber.org/events/details/rwlc-presents-report-to-the-people-29815
END:VEVENT

END:VCALENDAR
