BEGIN:VCALENDAR
VERSION:2.0
PRODID:-//ChamberMaster//Event Calendar 2.0//EN
METHOD:PUBLISH
X-PUBLISHED-TTL:P3D
REFRESH-INTERVAL:P3D
CALSCALE:GREGORIAN
BEGIN:VEVENT
DTSTART:20240313T180000Z
DTEND:20240313T190000Z
X-MICROSOFT-CDO-ALLDAYEVENT:FALSE
SUMMARY:Rotary - Northern Black Hills
DESCRIPTION:Through Rotary clubs\, we come together to exchange ideas\, & form friendships & professional connections while making a difference locally & globally.
X-ALT-DESC;FMTTYPE=text/html:Through Rotary clubs\, we come together to exchange ideas\, &amp\; form friendships &amp\; professional connections while making a difference locally &amp\; globally.<br />\n&nbsp\;
LOCATION:Spearfish Holiday Inn/Lucky's 13\, 305 N. 27th St.\, Spearfish
UID:e.2381.29918
SEQUENCE:3
DTSTAMP:20260420T055832Z
URL:https://business.spearfishchamber.org/events/details/rotary-northern-black-hills-03-13-2024-29918
END:VEVENT

END:VCALENDAR
