BEGIN:VCALENDAR
VERSION:2.0
PRODID:-//ChamberMaster//Event Calendar 2.0//EN
METHOD:PUBLISH
X-PUBLISHED-TTL:P3D
REFRESH-INTERVAL:P3D
CALSCALE:GREGORIAN
BEGIN:VEVENT
DTSTART:20230713T223000Z
DTEND:20230713T233000Z
X-MICROSOFT-CDO-ALLDAYEVENT:FALSE
SUMMARY:R & C Duo at the Spearfish Library
DESCRIPTION:Grace Balloch Memorial Library in Spearfish will host the R & C Duo on Thursday\, July 13\, from 5:30 to 6:30 p.m. Chris Davis and Rod Garnett blend the melodic sounds of classical guitar with antique and modern flutes.  Their original arrangements feature music from European and American classical and folk traditions. Stop in and enjoy some fun and relaxing tunes in the library.
X-ALT-DESC;FMTTYPE=text/html:<div style="font-family: Calibri\, Helvetica\, sans-serif\; font-size: 12pt\; color: rgb(0\, 0\, 0)\;"><span style="font-size: 12pt\;">Grace Balloch Memorial Library in Spearfish will host the R &amp\; C&nbsp\;Duo&nbsp\;on Thursday\, July 13\, from 5:30 to 6:30 p.m.&nbsp\;</span><span style="font-size: 12pt\;">Chris Davis and Rod Garnett blend the melodic sounds of classical guitar with antique and modern flutes.</span><span style="font-size: 12pt\; font-family: &quot\;Times New Roman&quot\;\, serif\;"><span style="font-family: Calibri\, Helvetica\, sans-serif\;">&nbsp\;</span><span style="font-family: Calibri\, Helvetica\, sans-serif\;">&nbsp\;</span></span><span style="font-size: 12pt\;">Their original arrangements feature music from European and American classical and folk traditions. Stop in and enjoy some fun and relaxing tunes in the library.</span></div>\n\n<div>&nbsp\;</div>\n\n<div dir="ltr" style="font-family: Arial\, Helvetica\, sans-serif\; font-size: small\;">\n<div dir="ltr">\n<div>&nbsp\;</div>\n</div>\n</div>\n
LOCATION:
UID:e.2381.29814
SEQUENCE:3
DTSTAMP:20260420T204005Z
URL:https://business.spearfishchamber.org/events/details/r-c-duo-at-the-spearfish-library-29814
END:VEVENT

END:VCALENDAR
