BEGIN:VCALENDAR
VERSION:2.0
PRODID:-//ChamberMaster//Event Calendar 2.0//EN
METHOD:PUBLISH
X-PUBLISHED-TTL:P3D
REFRESH-INTERVAL:P3D
CALSCALE:GREGORIAN
BEGIN:VEVENT
DTSTART:20230706T230000Z
DTEND:20230707T020000Z
X-MICROSOFT-CDO-ALLDAYEVENT:FALSE
SUMMARY:Quinlan Valdez Performance
DESCRIPTION:Join us for a night of music by Quinlan Valdez Dinner service and beverages will be available during the event. 77's Special for this event is Prime Rib! No tickets are needed. No cover charge. Limited seating. Dinner reservations are highly recommended. Visit our website for information on the artist or to make a reservation
X-ALT-DESC;FMTTYPE=text/html:Join us for a night of music by Quinlan Valdez Dinner service and beverages will be available during the event. 77&#39\;s Special for this event is Prime Rib! No tickets are needed. No cover charge. Limited seating. Dinner reservations are highly recommended. Visit our website for information on the artist or to make a reservation
LOCATION:77 Steakhouse & Saloon 77 Tower View Drive\, Hulett\, Wy
UID:e.2381.29802
SEQUENCE:3
DTSTAMP:20260420T203838Z
URL:https://business.spearfishchamber.org/events/details/quinlan-valdez-performance-29802
END:VEVENT

END:VCALENDAR
