BEGIN:VCALENDAR
VERSION:2.0
PRODID:-//ChamberMaster//Event Calendar 2.0//EN
METHOD:PUBLISH
X-PUBLISHED-TTL:P3D
REFRESH-INTERVAL:P3D
CALSCALE:GREGORIAN
BEGIN:VEVENT
DTSTART:20240327T170000Z
DTEND:20240327T180000Z
X-MICROSOFT-CDO-ALLDAYEVENT:FALSE
SUMMARY:QPR Lunch & Learn
DESCRIPTION:Join Us! Ask a Question\, Save a Life.  QPR is a suicide prevention\, evidence based training for participants to be able to recognize the warning signs of suicide and question\, persuade\, and refer people at risk for suicide for help. This training is FREE of charge and includes the following: Instruction\, Certification and Manual. BYOL (Bring your own lunch!)  Pre-registration IS REQUIRED! Email: lccmhatcoordinator@gmail.com
X-ALT-DESC;FMTTYPE=text/html:Join Us! <strong>Ask a Question\, Save a Life.</strong>&nbsp\; QPR is a suicide prevention\, evidence based training for participants to be able to recognize the warning signs of suicide and question\, persuade\, and refer people at risk for suicide for help. This training is FREE of charge and includes the following: Instruction\, Certification and Manual. BYOL (Bring your own lunch!)&nbsp\; <strong>Pre-registration IS REQUIRED!</strong> Email: lccmhatcoordinator@gmail.com
LOCATION:Pioneer Bank Boardroom 140 E Jackson Blvd Spearfish SD
UID:e.2381.30128
SEQUENCE:3
DTSTAMP:20260420T054010Z
URL:https://business.spearfishchamber.org/events/details/qpr-lunch-learn-03-27-2024-30128
END:VEVENT

END:VCALENDAR
