BEGIN:VCALENDAR
VERSION:2.0
PRODID:-//ChamberMaster//Event Calendar 2.0//EN
METHOD:PUBLISH
X-PUBLISHED-TTL:P3D
REFRESH-INTERVAL:P3D
CALSCALE:GREGORIAN
BEGIN:VEVENT
DTSTART:20260313T200000Z
DTEND:20260313T220000Z
X-MICROSOFT-CDO-ALLDAYEVENT:FALSE
SUMMARY:Poetry on the Road
DESCRIPTION:Poetry on the Road is a series of 2 hour events held throughout SD to help foster the creations & appreciation of poetry. The gatherings are supported by the SD State Poetry Society (SDSPS)\, the SD Humanities Council\, & many local sponsors. This event is free & open to the public. Join us for poetry readings from the SD Poet Laureate\, Bruce Roseland\, & other SDSPS member poets. There will also be an open mic portion\, where attendees can sign up to read their own original poems if they wish. All are welcome- to participate or just to listen.
X-ALT-DESC;FMTTYPE=text/html:Poetry on the Road is a series of 2 hour events held throughout SD to help foster the creations &amp\; appreciation of poetry. The gatherings are supported by the SD State Poetry Society (SDSPS)\, the SD Humanities Council\, &amp\; many local sponsors. This event is free &amp\; open to the public. Join us for poetry readings from the SD Poet Laureate\, Bruce Roseland\, &amp\; other SDSPS member poets. There will also be an open mic portion\, where attendees can sign up to read their own original poems if they wish. All are welcome- to participate or just to listen.
LOCATION:Spearfish Senior Center 1306 N 10th St Spearfish\, SD
UID:e.2381.30710
SEQUENCE:3
DTSTAMP:20260424T020137Z
URL:https://business.spearfishchamber.org/events/details/poetry-on-the-road-03-13-2026-30710
END:VEVENT

END:VCALENDAR
