BEGIN:VCALENDAR
VERSION:2.0
PRODID:-//ChamberMaster//Event Calendar 2.0//EN
METHOD:PUBLISH
X-PUBLISHED-TTL:P3D
REFRESH-INTERVAL:P3D
CALSCALE:GREGORIAN
BEGIN:VEVENT
DTSTART:20230718T230000Z
DTEND:20230719T020000Z
X-MICROSOFT-CDO-ALLDAYEVENT:FALSE
SUMMARY:Orion & Stacey Potter Performance
DESCRIPTION:Join us for a night of music by Orion & Stacey Potter Dinner service and beverages will be available during the event. 77's Special for this event is Prime Rib! No tickets needed. No cover charge. Limited seating. Dinner reservations highly recommended. Visit our website for information about the artist or to make a reservation
X-ALT-DESC;FMTTYPE=text/html:Join us for a night of music by Orion &amp\; Stacey Potter Dinner service and beverages will be available during the event. 77&#39\;s Special for this event is Prime Rib! No tickets needed. No cover charge. Limited seating. Dinner reservations highly recommended. Visit our website for information about the artist or to make a reservation
LOCATION:77 Steakhouse & Saloon
UID:e.2381.29803
SEQUENCE:3
DTSTAMP:20260420T203837Z
URL:https://business.spearfishchamber.org/events/details/orion-stacey-potter-performance-29803
END:VEVENT

END:VCALENDAR
