BEGIN:VCALENDAR
VERSION:2.0
PRODID:-//ChamberMaster//Event Calendar 2.0//EN
METHOD:PUBLISH
X-PUBLISHED-TTL:P3D
REFRESH-INTERVAL:P3D
CALSCALE:GREGORIAN
BEGIN:VEVENT
DTSTART:20231128T030000Z
DTEND:20231128T050000Z
X-MICROSOFT-CDO-ALLDAYEVENT:FALSE
SUMMARY:Open Mic Night at Spearfish Public House
DESCRIPTION:Join the Spearfish Public House every Monday night for Open Mic Night! The Music begins at 8 PM.
X-ALT-DESC;FMTTYPE=text/html:Join the Spearfish Public House every Monday night for Open Mic Night! The Music begins at 8 PM.
LOCATION:Spearfish Public House 729 N. 7th St.
UID:e.2381.29658
SEQUENCE:3
DTSTAMP:20260420T055835Z
URL:https://business.spearfishchamber.org/events/details/open-mic-night-at-spearfish-public-house-11-27-2023-29658
END:VEVENT

END:VCALENDAR
