BEGIN:VCALENDAR
VERSION:2.0
PRODID:-//ChamberMaster//Event Calendar 2.0//EN
METHOD:PUBLISH
X-PUBLISHED-TTL:P3D
REFRESH-INTERVAL:P3D
CALSCALE:GREGORIAN
BEGIN:VEVENT
DTSTART:20240305T230000Z
DTEND:20240305T230000Z
X-MICROSOFT-CDO-ALLDAYEVENT:FALSE
SUMMARY:Northern Hills Republican Women Meeting
DESCRIPTION:Northern Hills Republican Women Meeting\n\nMarch 5\, 2024 - 5:00 PM\n\nThe Northern Hills Republican Women will hold their monthly meeting at Guadalajara Restaurant\, 73 W. Hwy 14\, Spearfish\, SD on March 5\, 2024.\n\nOur speaker will be Kristie Fiegan\, SD Public Utilities Commissioner. She will speak on the responsibilities and issues that her department handles.\n\nWe strongly suggest that if you are going to have dinner that you arrive at 4:30.  Meeting will start at 5:30. All are welcome.
X-ALT-DESC;FMTTYPE=text/html:<div style="color: rgb(34\, 34\, 34)\; font-family: Arial\, Helvetica\, sans-serif\; font-size: small\; direction: ltr\; margin: 0px\;"><span style="font-family: &quot\;Google Sans&quot\;\, Roboto\, RobotoDraft\, Helvetica\, Arial\, sans-serif\; font-size: 12pt\; color: rgb(0\, 0\, 0)\; font-weight: 700\;">Northern Hills Republican Women Meeting</span></div>\n\n<div style="color: rgb(34\, 34\, 34)\; font-family: Arial\, Helvetica\, sans-serif\; font-size: small\; direction: ltr\; margin: 0px\;"><span style="font-family: &quot\;Google Sans&quot\;\, Roboto\, RobotoDraft\, Helvetica\, Arial\, sans-serif\; font-size: 12pt\; color: rgb(0\, 0\, 0)\; font-weight: 700\;">March 5\, 2024 - 5:00 PM</span></div>\n\n<div style="color: rgb(34\, 34\, 34)\; font-family: Arial\, Helvetica\, sans-serif\; font-size: small\; direction: ltr\; margin: 0px\;"><span style="font-family: Tahoma\, Geneva\, sans-serif\; font-size: 12pt\; color: rgb(0\, 0\, 0)\;">The Northern Hills Republican Women will hold their monthly meeting at Guadalajara Restaurant\, 73 W. Hwy 14\, Spearfish\, SD on March 5\, 2024.</span></div>\n\n<div style="color: rgb(34\, 34\, 34)\; font-family: Arial\, Helvetica\, sans-serif\; font-size: small\; direction: ltr\; margin: 0px\;"><span style="font-family: Tahoma\, Geneva\, sans-serif\; font-size: 12pt\; color: rgb(0\, 0\, 0)\;">Our speaker will be Kristie Fiegan\, SD Public Utilities Commissioner. She will speak on the responsibilities and issues that her department handles.</span></div>\n\n<div style="color: rgb(34\, 34\, 34)\; font-family: Arial\, Helvetica\, sans-serif\; font-size: small\; direction: ltr\; margin: 0px\;"><span style="font-family: Tahoma\, Geneva\, sans-serif\; font-size: 12pt\; color: rgb(0\, 0\, 0)\;">We strongly suggest that if you are going to have dinner that you arrive at 4:30.&nbsp\; Meeting will start at 5:30. All are welcome.</span></div>\n
LOCATION:
UID:e.2381.30138
SEQUENCE:3
DTSTAMP:20260420T132548Z
URL:https://business.spearfishchamber.org/events/details/northern-hills-republican-women-meeting-30138
END:VEVENT

END:VCALENDAR
