BEGIN:VCALENDAR
VERSION:2.0
PRODID:-//ChamberMaster//Event Calendar 2.0//EN
METHOD:PUBLISH
X-PUBLISHED-TTL:P3D
REFRESH-INTERVAL:P3D
CALSCALE:GREGORIAN
BEGIN:VEVENT
DTSTART:20240206T223000Z
DTEND:20240206T223000Z
X-MICROSOFT-CDO-ALLDAYEVENT:FALSE
SUMMARY:Northern Hills Republican Women Meeting
DESCRIPTION:Northern Hills Republican Women - Meeting\n\nFEBRUARY 6\, 2024\n\nThe Northern Hills Republican Women will hold their monthly meeting at Guadalajara Restaurant\, 83 W. Hwy 14\, Spearfish\, SD.  Dinner available at 4:30\, Meeting starts at 5:30.\n\nOur speaker will be Chief Robert Williams\, Police Chief Lead\, SD.  Chief Williams will be speaking on Situational Awareness\, a topic concerning being more aware of your surroundings and being able to enjoy life feeling safe.  Chief Williams will be available for questions.\n\nAll are welcome.
X-ALT-DESC;FMTTYPE=text/html:<strong><span style="color:black\;"><span style="font-family:roboto\;"><span style="font-size:12.0pt\;">Northern Hills Republican Women - Meeting</span></span></span></strong><br />\n<strong><span style="color:black\;"><span style="font-family:roboto\;"><span style="font-size:12.0pt\;">FEBRUARY 6\, 2024</span></span></span></strong><br />\n<span style="color:black\;"><span style="font-family:tahoma\,sans-serif\;"><span style="font-size:12.0pt\;">The&nbsp\;<em>Northern Hills Republican Women</em>&nbsp\;will hold their monthly meeting at Guadalajara Restaurant\, 83 W. Hwy 14\, Spearfish\, SD.&nbsp\; Dinner available at 4:30\, Meeting starts at 5:30.</span></span></span><br />\n<span style="color:black\;"><span style="font-family:tahoma\,sans-serif\;"><span style="font-size:12.0pt\;">Our speaker will be Chief Robert Williams\, Police Chief Lead\, SD.&nbsp\; Chief Williams will be speaking on Situational Awareness\, a topic concerning being more aware of your surroundings and being able to enjoy life feeling safe.&nbsp\; Chief Williams will be available for questions.</span></span></span><br />\n<span style="color:black\;"><span style="font-family:tahoma\,sans-serif\;"><span style="font-size:12.0pt\;">All are welcome.</span></span></span>
LOCATION:
UID:e.2381.30113
SEQUENCE:3
DTSTAMP:20260421T145829Z
URL:https://business.spearfishchamber.org/events/details/northern-hills-republican-women-meeting-30113
END:VEVENT

END:VCALENDAR
