BEGIN:VCALENDAR
VERSION:2.0
PRODID:-//ChamberMaster//Event Calendar 2.0//EN
METHOD:PUBLISH
X-PUBLISHED-TTL:P3D
REFRESH-INTERVAL:P3D
CALSCALE:GREGORIAN
BEGIN:VEVENT
DTSTART:20230720T170000Z
DTEND:20230720T190000Z
X-MICROSOFT-CDO-ALLDAYEVENT:FALSE
SUMMARY:Northern Hills Republican Women Meeting
DESCRIPTION:The Northern Hills Republican Women will hold their monthly meeting at Perkins Restaurant\, 2301 E. Colorado Blvd.\, Spearfish. All are welcome to attend. Those wanting to order food should plan to arrive about 10:30 and the meeting will be at 11:30. Our speaker will be Ms. Penny Sattgast\, past President of the South Dakota Federation of Republican Women and current Chairwomen of the SDFRW Youth Advocacy Committee.
X-ALT-DESC;FMTTYPE=text/html:<div style="color: rgb(0\, 0\, 0)\; font-family: Tahoma\, Geneva\, sans-serif\; font-size: 12pt\; margin: 0px\;"><span style="font-size:14px\;"><span style="font-family:arial\;">The Northern Hills Republican Women will hold their monthly meeting at Perkins Restaurant\, 2301 E. Colorado Blvd.\, Spearfish.&nbsp\;All are&nbsp\;welcome&nbsp\;to attend.&nbsp\;</span></span><span style="font-size:14px\;"><span style="font-family:arial\;">Those wanting to order food should plan to arrive about 10:30 and the meeting will be at 11:30. Our speaker will be Ms. Penny Sattgast\, past President of the South Dakota Federation of Republican Women and current Chairwomen of the SDFRW Youth Advocacy Committee.</span></span></div>\n
LOCATION:
UID:e.2381.29810
SEQUENCE:3
DTSTAMP:20260420T211103Z
URL:https://business.spearfishchamber.org/events/details/northern-hills-republican-women-meeting-29810
END:VEVENT

END:VCALENDAR
