BEGIN:VCALENDAR
VERSION:2.0
PRODID:-//ChamberMaster//Event Calendar 2.0//EN
METHOD:PUBLISH
X-PUBLISHED-TTL:P3D
REFRESH-INTERVAL:P3D
CALSCALE:GREGORIAN
BEGIN:VEVENT
DTSTART:20230615T170000Z
DTEND:20230615T190000Z
X-MICROSOFT-CDO-ALLDAYEVENT:FALSE
SUMMARY:Northern Hills Republican Women Meeting
DESCRIPTION:The Northern Hills Republican Women will hold their monthly meeting at Perkins Restaurant\, 2301 E. Colorado Blvd.\, Spearfish. Lunch will be at 11 AM and the meeting will be at 11:30 AM. Denise Parker\, from American Red Cross\, will be speaking about Emergency Preparedness for home and family and the Red Cross Smoke Detector Program. All are welcome!
X-ALT-DESC;FMTTYPE=text/html:<div style="color: black\; font-family: Tahoma\, Geneva\, sans-serif\; font-size: 16px\; margin: 0px\;"><span style="font-size:14px\;"><span style="font-family:arial\;"><span style="margin: 0px\;">The Northern Hills Republican Women will hold their monthly meeting at Perkins Restaurant\, 2301 E. Colorado Blvd.\, Spearfish. Lunch will be at 11 AM&nbsp\;and the meeting will be at 11:30 AM.&nbsp\;Denise Parker\, from American Red Cross\, will be speaking about Emergency Preparedness for home and family and the Red Cross Smoke Detector Program. All are<span style="margin: 0px\;">&nbsp\;</span>welcome!</span></span></span></div>\n
LOCATION:
UID:e.2381.29793
SEQUENCE:3
DTSTAMP:20260421T014606Z
URL:https://business.spearfishchamber.org/events/details/northern-hills-republican-women-meeting-29793
END:VEVENT

END:VCALENDAR
