BEGIN:VCALENDAR
VERSION:2.0
PRODID:-//ChamberMaster//Event Calendar 2.0//EN
METHOD:PUBLISH
X-PUBLISHED-TTL:P3D
REFRESH-INTERVAL:P3D
CALSCALE:GREGORIAN
BEGIN:VEVENT
DTSTART:20240325T223000Z
DTEND:20240325T223000Z
X-MICROSOFT-CDO-ALLDAYEVENT:FALSE
SUMMARY:Northern Hills Diversion Open House
DESCRIPTION:We invite you to come observe our volunteers show off their skills in a peer-to-peer Mock Trial!   We will also do a brief presentation about NHD and our role in the Northern Black Hills Communities.  Q&A to follow and drinks and light snacks will be served! Adults and youth of all ages are welcome.
X-ALT-DESC;FMTTYPE=text/html:<span style="color: rgb(34\, 34\, 34)\; font-family: Arial\, Helvetica\, sans-serif\; font-size: 16px\;">We invite you to come observe our volunteers show off their skills in a peer-to-peer Mock Trial!&nbsp\;&nbsp\; We will also do a brief presentation about NHD and our role in the Northern Black Hills Communities.&nbsp\; Q&amp\;A to follow and drinks and light snacks will be served! Adults and youth of all ages are welcome.&nbsp\;&nbsp\;</span>
LOCATION:Meade County Courthouse\, 425 Sherman St\, Sturgis\, SD 57785
UID:e.2381.30152
SEQUENCE:3
DTSTAMP:20260420T054711Z
URL:https://business.spearfishchamber.org/events/details/northern-hills-diversion-open-house-30152
END:VEVENT

END:VCALENDAR
