BEGIN:VCALENDAR
VERSION:2.0
PRODID:-//ChamberMaster//Event Calendar 2.0//EN
METHOD:PUBLISH
X-PUBLISHED-TTL:P3D
REFRESH-INTERVAL:P3D
CALSCALE:GREGORIAN
BEGIN:VEVENT
DTSTART:20210505T230000Z
DTEND:20210506T023000Z
X-MICROSOFT-CDO-ALLDAYEVENT:FALSE
SUMMARY:NH Spring Fashion Show Fundraiser
DESCRIPTION:Public    Anyone on or off Facebook\n\n\n\n\n\n\n \n\n\nWe're BACK! Join us for this fun & fabulous event to raise money for SD Kids Belong!\n\nSip & shop 10 boutiques in one location\, runway show\, food trucks\, raffles and more!\n\nEvery ticket comes with 1 drink ticket.\n\nVIP tickets (only 10 available) drink ticket\, reserved seating\, and gift cards to each boutique.\n\nUgly Graffiti and Grounded trucks will be on sit
X-ALT-DESC;FMTTYPE=text/html:<div>&nbsp\;</div>\n\n<div>\n<div class="dwo3fsh8 g5ia77u1 rt8b4zig n8ej3o3l agehan2d sk4xxmp2 rq0escxv q9uorilb kvgmc6g5 cxmmr5t8 oygrvhab hcukyx3x jb3vyjys rz4wbd8a qt6c0cv9 a8nywdso l9j0dhe7 i1ao9s8h k4urcfbm" style="border-width: 0px\; padding: 0px\; margin: 0px\; appearance: none\; background-color: rgb(255\, 255\, 255)\; width: 500px\; position: relative\; display: inline-block\; box-sizing: border-box\; font-family: &quot\;Segoe UI Historic&quot\;\, &quot\;Segoe UI&quot\;\, Helvetica\, Arial\, sans-serif\; color: rgb(28\, 30\, 33)\; font-size: 12px\; animation-name: none !important\; transition-property: none !important\;">\n<div class="j83agx80 cbu4d94t sj5x9vvc cxgpxx05" style="flex-direction: column\; padding-top: 8px\; display: flex\; padding-bottom: 8px\; animation-name: none !important\; transition-property: none !important\; font-family: inherit\;">\n<div class="rq0escxv l9j0dhe7 du4w35lb j83agx80 pfnyh3mw jifvfom9 ll8tlv6m owycx6da btwxx1t3 hv4rvrfc dati1w0a jb3vyjys b5q2rw42 lq239pai mysgfdmx hddg9phg" style="margin: -6px\; flex-flow: row nowrap\; padding-left: 16px\; z-index: 0\; padding-right: 16px\; display: flex\; padding-top: 0px\; justify-content: flex-start\; position: relative\; align-items: flex-start\; flex-shrink: 0\; box-sizing: border-box\; animation-name: none !important\; transition-property: none !important\; font-family: inherit\;">\n<div class="rq0escxv l9j0dhe7 du4w35lb j83agx80 cbu4d94t g5gj957u d2edcug0 hpfvmrgz rj1gh0hx buofh1pr o8rfisnq p8fzw8mz pcp91wgn iuny7tx3 ipjc6fyt" style="flex: 1 1 0px\; flex-direction: column\; max-width: 100%\; z-index: 0\; min-width: 0px\; padding: 6px\; display: flex\; position: relative\; align-self: center\; box-sizing: border-box\; animation-name: none !important\; transition-property: none !important\; font-family: inherit\;">\n<div class="j83agx80 cbu4d94t ew0dbk1b irj2b8pg" style="flex-direction: column\; margin-bottom: -5px\; margin-top: -5px\; display: flex\; animation-name: none !important\; transition-property: none !important\; font-family: inherit\;">\n<div class="qzhwtbm6 knvmm38d" style="margin-top: 5px\; margin-bottom: 5px\; animation-name: none !important\; transition-property: none !important\; font-family: inherit\;"><span class="d2edcug0 hpfvmrgz qv66sw1b c1et5uql rrkovp55 a8c37x1j keod5gw0 nxhoafnm aigsh9s9 d3f4x2em fe6kdd0r mau55g9w c8b282yb iv3no6db jq4qci2q a3bd9o3v knj5qynh oo9gr5id hzawbc8m" dir="auto" style="line-height: 1.3333\; display: block\; overflow-wrap: break-word\; max-width: 100%\; min-width: 0px\; font-size: 0.9375rem\; color: var(--primary-text)\; word-break: break-word\; font-family: inherit\; animation-name: none !important\; transition-property: none !important\;">Public<span style="animation-name: none !important\; transition-property: none !important\; font-family: inherit\;"><span class="rfua0xdk pmk7jnqg stjgntxs ni8dbmo4 ay7djpcl q45zohi1" style="height: 1px\; overflow: hidden\; position: absolute\; clip: rect(0px\, 0px\, 0px\, 0px)\; width: 1px\; animation-name: none !important\; transition-property: none !important\; font-family: inherit\;">&nbsp\;</span><span aria-hidden="true" style="animation-name: none !important\; transition-property: none !important\; font-family: inherit\;">&nbsp\;&middot\;&nbsp\;</span></span>Anyone on or off Facebook</span></div>\n</div>\n</div>\n</div>\n</div>\n</div>\n\n<div class="gl3lb2sf" style="height: 16px\; font-family: &quot\;Segoe UI Historic&quot\;\, &quot\;Segoe UI&quot\;\, Helvetica\, Arial\, sans-serif\; color: rgb(28\, 30\, 33)\; font-size: 12px\; background-color: rgb(255\, 255\, 255)\; animation-name: none !important\; transition-property: none !important\;">&nbsp\;</div>\n\n<div class="dati1w0a hv4rvrfc" style="padding-left: 16px\; padding-right: 16px\; font-family: &quot\;Segoe UI Historic&quot\;\, &quot\;Segoe UI&quot\;\, Helvetica\, Arial\, sans-serif\; color: rgb(28\, 30\, 33)\; font-size: 12px\; background-color: rgb(255\, 255\, 255)\; animation-name: none !important\; transition-property: none !important\;">\n<div class="kvgmc6g5 cxmmr5t8 oygrvhab hcukyx3x c1et5uql" style="overflow-wrap: break-word\; margin: 0px\; animation-name: none !important\; transition-property: none !important\; font-family: inherit\;"><span class="d2edcug0 hpfvmrgz qv66sw1b c1et5uql rrkovp55 a8c37x1j keod5gw0 nxhoafnm aigsh9s9 d3f4x2em fe6kdd0r mau55g9w c8b282yb iv3no6db jq4qci2q a3bd9o3v knj5qynh oo9gr5id" dir="auto" style="line-height: 1.3333\; display: block\; overflow-wrap: break-word\; max-width: 100%\; min-width: 0px\; font-size: 0.9375rem\; color: var(--primary-text)\; word-break: break-word\; font-family: inherit\; animation-name: none !important\; transition-property: none !important\;">We&#39\;re BACK! Join us for this fun &amp\; fabulous event to raise money for SD Kids Belong!<br style="animation-name: none !important\; transition-property: none !important\;" />\nSip &amp\; shop 10 boutiques in one location\, runway show\, food trucks\, raffles and more!<br style="animation-name: none !important\; transition-property: none !important\;" />\nEvery ticket comes with 1 drink ticket.<br style="animation-name: none !important\; transition-property: none !important\;" />\nVIP tickets (only 10 available) drink ticket\, reserved seating\, and gift cards to each boutique.<br style="animation-name: none !important\; transition-property: none !important\;" />\nUgly Graffiti and Grounded trucks will be on sit</span></div>\n</div>\n</div>\n
LOCATION:The Barn at Aspen Acres\, 1101 Kellem Lane\, Spearfish
UID:e.2381.27564
SEQUENCE:3
DTSTAMP:20260422T223230Z
URL:https://business.spearfishchamber.org/events/details/nh-spring-fashion-show-fundraiser-27564
END:VEVENT

END:VCALENDAR
