BEGIN:VCALENDAR
VERSION:2.0
PRODID:-//ChamberMaster//Event Calendar 2.0//EN
METHOD:PUBLISH
X-PUBLISHED-TTL:P3D
REFRESH-INTERVAL:P3D
CALSCALE:GREGORIAN
BEGIN:VEVENT
DTSTART:20240309T200000Z
DTEND:20240309T220000Z
X-MICROSOFT-CDO-ALLDAYEVENT:FALSE
SUMMARY:NH Master Gardener's Meeting
DESCRIPTION:The Northern Hills Master Gardener monthly meetings are at 1 PM at the Spearfish Chamber of Commerce on the second Saturday of each month. We will be planning events and attending to regular business. We hope to see you there!
X-ALT-DESC;FMTTYPE=text/html:<span style="color: rgb(29\, 33\, 41)\; font-family: system-ui\, -apple-system\, BlinkMacSystemFont\, &quot\;.SFNSText-Regular&quot\;\, sans-serif\; font-size: 14px\;">The Northern Hills Master Gardener monthly meetings are at 1 PM at the Spearfish Chamber of Commerce on the second Saturday of each month. We will be planning events and attending to regular business. We hope to see you there!</span>
LOCATION:Spearfish Chamber of Commerce\, 106 W Kansas St.\, Spearfish
UID:e.2381.14927
SEQUENCE:3
DTSTAMP:20260420T055524Z
URL:https://business.spearfishchamber.org/events/details/nh-master-gardener-s-meeting-03-09-2024-14927
END:VEVENT

END:VCALENDAR
