BEGIN:VCALENDAR
VERSION:2.0
PRODID:-//ChamberMaster//Event Calendar 2.0//EN
METHOD:PUBLISH
X-PUBLISHED-TTL:P3D
REFRESH-INTERVAL:P3D
CALSCALE:GREGORIAN
BEGIN:VEVENT
DTSTART:20260508T190000Z
DTEND:20260508T200000Z
X-MICROSOFT-CDO-ALLDAYEVENT:FALSE
SUMMARY:Mother's Tea Party
DESCRIPTION:Mother's Tea Party on May 8th. Tea & refreshments in honor of all our mothers on Friday\, May 8th at 1PM. Senior Center Chorus will be performing. Party Hats are not required but encouraged! Free will donation at the door. Open to the public. Invite your family\, neighbors\, & friends!
X-ALT-DESC;FMTTYPE=text/html:Mother&rsquo\;s Tea Party on May 8th. Tea &amp\; refreshments in honor of all our mothers on Friday\, May 8th at 1PM. Senior Center Chorus will be performing. Party Hats are not required but encouraged! Free will donation at the door. Open to the public. Invite your family\, neighbors\, &amp\; friends!
LOCATION:Spearfish Senior Center 1306 N 10th St Spearfish\, SD
UID:e.2381.30755
SEQUENCE:3
DTSTAMP:20260420T225412Z
URL:https://business.spearfishchamber.org/events/details/mother-s-tea-party-30755
END:VEVENT

END:VCALENDAR
