BEGIN:VCALENDAR
VERSION:2.0
PRODID:-//ChamberMaster//Event Calendar 2.0//EN
METHOD:PUBLISH
X-PUBLISHED-TTL:P3D
REFRESH-INTERVAL:P3D
CALSCALE:GREGORIAN
BEGIN:VEVENT
DTSTART:20230725T000000Z
DTEND:20230725T013000Z
X-MICROSOFT-CDO-ALLDAYEVENT:FALSE
SUMMARY:Monday Night Bingo at Spearfish Brewing Co.
DESCRIPTION:Celebrate Monday FUNday in the taproom at Spearfish Brewing with some FREE rounds of Bingo! New themes and patterns each week. All ages welcome. Prizes for each round. Win beer (candy for the kiddos) while enjoying friendly competition.
X-ALT-DESC;FMTTYPE=text/html:Celebrate Monday FUNday in the taproom at Spearfish Brewing with some FREE rounds of Bingo! New themes and patterns each week. All ages welcome. Prizes for each round. Win beer (candy for the kiddos) while enjoying friendly competition.
LOCATION:Spearfish Brewing Co. 741 N. Main St.\, Ste. 130
UID:e.2381.29590
SEQUENCE:3
DTSTAMP:20260420T205910Z
URL:https://business.spearfishchamber.org/events/details/monday-night-bingo-at-spearfish-brewing-co-07-24-2023-29590
END:VEVENT

END:VCALENDAR
