BEGIN:VCALENDAR
VERSION:2.0
PRODID:-//ChamberMaster//Event Calendar 2.0//EN
METHOD:PUBLISH
X-PUBLISHED-TTL:P3D
REFRESH-INTERVAL:P3D
CALSCALE:GREGORIAN
BEGIN:VEVENT
DTSTART:20260115T003000Z
DTEND:20260115T030000Z
X-MICROSOFT-CDO-ALLDAYEVENT:FALSE
SUMMARY:Lawrence County Democrats Monthly Meeting
DESCRIPTION:Lawrence County Democrats Monthly Meetings held on the 2nd Wednesday of every month.
X-ALT-DESC;FMTTYPE=text/html:Lawrence County Democrats Monthly Meetings held on the 2nd Wednesday of every month.&nbsp\;
LOCATION:Guadalajara's in Spearfish
UID:e.2381.30384
SEQUENCE:3
DTSTAMP:20260423T155607Z
URL:https://business.spearfishchamber.org/events/details/lawrence-county-democrats-monthly-meeting-01-14-2026-30384
END:VEVENT

END:VCALENDAR
