BEGIN:VCALENDAR
VERSION:2.0
PRODID:-//ChamberMaster//Event Calendar 2.0//EN
METHOD:PUBLISH
X-PUBLISHED-TTL:P3D
REFRESH-INTERVAL:P3D
CALSCALE:GREGORIAN
BEGIN:VEVENT
DTSTART:20240207T233000Z
DTEND:20240208T020000Z
X-MICROSOFT-CDO-ALLDAYEVENT:FALSE
SUMMARY:Lawrence County Democrats General Meeting
DESCRIPTION:Join our group of pro-democracy patriots\, working to elect better leaders in South Dakota. Our next meeting is on Wednesday\, February 7th\, at Guadalajara's in Spearfish social starts at 5:30 pm\, followed by the business meeting at 7 pm.
X-ALT-DESC;FMTTYPE=text/html:Join our group of pro-democracy patriots\, working to elect better leaders in South Dakota. Our next meeting is on Wednesday\, February 7th\, at Guadalajara&#39\;s in Spearfish&mdash\;social starts at 5:30 pm\, followed by the business meeting at 7 pm.
LOCATION:Guadalajara's in Spearfish
UID:e.2381.30125
SEQUENCE:3
DTSTAMP:20260421T140221Z
URL:https://business.spearfishchamber.org/events/details/lawrence-county-democrats-general-meeting-30125
END:VEVENT

END:VCALENDAR
