BEGIN:VCALENDAR
VERSION:2.0
PRODID:-//ChamberMaster//Event Calendar 2.0//EN
METHOD:PUBLISH
X-PUBLISHED-TTL:P3D
REFRESH-INTERVAL:P3D
CALSCALE:GREGORIAN
BEGIN:VEVENT
DTSTART:20260811T143000Z
DTEND:20260811T190000Z
X-MICROSOFT-CDO-ALLDAYEVENT:FALSE
SUMMARY:Jacket Ride for Veterans
DESCRIPTION:14th Annual Veterans Ride Join us for the 14th Annual Veterans Ride\, a scenic charity ride through the breathtaking Spearfish Canyon and Vanocker Canyon. Led by American Legion riders and supported by law enforcement at all major intersections\, this ride offers a safe and unforgettable way to experience two of the Black Hills' most iconic routes. This fully sponsored event ensures that 100% of registration fees go directly to supporting Veterans. All vehicles are welcome\, making it a great opportunity for riders and supporters alike to come together for a meaningful cause.
X-ALT-DESC;FMTTYPE=text/html:14th Annual Veterans Ride Join us for the 14th Annual Veterans Ride\, a scenic charity ride through the breathtaking Spearfish Canyon and Vanocker Canyon. Led by American Legion riders and supported by law enforcement at all major intersections\, this ride offers a safe and unforgettable way to experience two of the Black Hills&rsquo\; most iconic routes. This fully sponsored event ensures that 100% of registration fees go directly to supporting Veterans. All vehicles are welcome\, making it a great opportunity for riders and supporters alike to come together for a meaningful cause.
LOCATION:Joy Center
UID:e.2381.30758
SEQUENCE:3
DTSTAMP:20260421T114210Z
URL:https://business.spearfishchamber.org/events/details/jacket-ride-for-veterans-08-11-2026-30758
END:VEVENT

END:VCALENDAR
