BEGIN:VCALENDAR
VERSION:2.0
PRODID:-//ChamberMaster//Event Calendar 2.0//EN
METHOD:PUBLISH
X-PUBLISHED-TTL:P3D
REFRESH-INTERVAL:P3D
CALSCALE:GREGORIAN
BEGIN:VEVENT
DTSTART:20231128T010000Z
DTEND:20231128T020000Z
X-MICROSOFT-CDO-ALLDAYEVENT:FALSE
SUMMARY:Immunization Clinic
DESCRIPTION:Good Shepherd Clinic to hold Immunization Clinic\n\n\n\nGood Shepherd Clinic\, located at 1020 State Street in Spearfish\, will hold Immunization Clinics on the Mondays of November 27\, December 11\, and January 8. Available immunizations will include: Influenza\, Shingles\, Pneumonia\, Hepatitis B\, and Tetanus/Diphtheria/Whooping Cough.\n\n\n\nIndividuals interested in the immunizations must meet Good Shepherd Clinic requirements of:\n\n- Resident of the Northern Black Hills\n\n- Be between 19-64 years of age\n\n- Don't qualify for or have health insurance\n\n- Meet 200% of Federal Poverty Level\n\n\n\nRegistration for the clinic will take place between 6 7 PM. Eligibility interviews and pre-vaccination screenings will be conducted.\n\n\n\nFor more information\, contact Chris at (605) 717-2080 or Director@GoodShepherdClinicSpearfish.com.
X-ALT-DESC;FMTTYPE=text/html:Good Shepherd Clinic to hold Immunization Clinic<br />\n<br />\nGood Shepherd Clinic\, located at 1020 State Street in Spearfish\, will hold Immunization Clinics on the Mondays of November 27\, December 11\, and January 8. Available immunizations will include: Influenza\, Shingles\, Pneumonia\, Hepatitis B\, and Tetanus/Diphtheria/Whooping Cough.<br />\n<br />\nIndividuals interested in the immunizations must meet Good Shepherd Clinic requirements of:<br />\n- Resident of the Northern Black Hills<br />\n- Be between 19-64 years of age<br />\n- Don&rsquo\;t qualify for or have health insurance<br />\n- Meet 200% of Federal Poverty Level<br />\n<br />\nRegistration for the clinic will take place between 6&ndash\;7 PM. Eligibility interviews and pre-vaccination screenings will be conducted.<br />\n<br />\nFor more information\, contact Chris at (605) 717-2080 or Director@GoodShepherdClinicSpearfish.com.
LOCATION:Good Shepherd Clinic 1020 State Street Spearfish\, SD
UID:e.2381.29854
SEQUENCE:3
DTSTAMP:20260420T051438Z
URL:https://business.spearfishchamber.org/events/details/immunization-clinic-29854
END:VEVENT

END:VCALENDAR
