BEGIN:VCALENDAR
VERSION:2.0
PRODID:-//ChamberMaster//Event Calendar 2.0//EN
METHOD:PUBLISH
X-PUBLISHED-TTL:P3D
REFRESH-INTERVAL:P3D
CALSCALE:GREGORIAN
BEGIN:VEVENT
DTSTART;VALUE=DATE:20230715
DTEND;VALUE=DATE:20230716
TRANSP:TRANSPARENT
X-MICROSOFT-CDO-ALLDAYEVENT:TRUE
SUMMARY:Hunter Tillman Charity Golf Tournament
DESCRIPTION:2023 Hunter Tillman Charity Golf Tournament   Fun 4 Person Scramble!\n\nPre-Registration at https://huntertillmanfoundation.com/golf-tournament or call Eric at (605) 377-5031.\n\nFunds provide scholarships for local high school students entering the Medical Field or Special Needs Education.
X-ALT-DESC;FMTTYPE=text/html:2023 Hunter Tillman Charity Golf Tournament &mdash\; Fun 4 Person Scramble!<br />\nPre-Registration at&nbsp\;<a href="https://huntertillmanfoundation.com/golf-tournament">https://huntertillmanfoundation.com/golf-tournament</a>&nbsp\;or call Eric at (605) 377-5031.<br />\nFunds provide scholarships for local high school students entering the Medical Field or Special Needs Education.
LOCATION:Spearfish Canyon Country Club 120 Spearfish Canyon Hwy Spearfish\, SD 57783
UID:e.2381.29811
SEQUENCE:3
DTSTAMP:20260420T210218Z
URL:https://business.spearfishchamber.org/events/details/hunter-tillman-charity-golf-tournament-29811
END:VEVENT

END:VCALENDAR
