BEGIN:VCALENDAR
VERSION:2.0
PRODID:-//ChamberMaster//Event Calendar 2.0//EN
METHOD:PUBLISH
X-PUBLISHED-TTL:P3D
REFRESH-INTERVAL:P3D
CALSCALE:GREGORIAN
BEGIN:VEVENT
DTSTART:20240216T220000Z
DTEND:20240217T020000Z
X-MICROSOFT-CDO-ALLDAYEVENT:FALSE
SUMMARY:Galentines Pop-Up Event
DESCRIPTION:Variety of booths from local vendors.
X-ALT-DESC;FMTTYPE=text/html:<span style="color: rgb(34\, 34\, 34)\; font-family: Arial\, Helvetica\, sans-serif\; font-size: small\;">Variety of booths from local vendors.&nbsp\;</span>&nbsp\;&nbsp\;&nbsp\;&nbsp\;
LOCATION:The Barn at Aspen Acres\, 11011 Kellem Lane\, Spearfish\, SD 57783
UID:e.2381.29907
SEQUENCE:3
DTSTAMP:20260421T142809Z
URL:https://business.spearfishchamber.org/events/details/galentines-pop-up-event-29907
END:VEVENT

END:VCALENDAR
