BEGIN:VCALENDAR
VERSION:2.0
PRODID:-//ChamberMaster//Event Calendar 2.0//EN
METHOD:PUBLISH
X-PUBLISHED-TTL:P3D
REFRESH-INTERVAL:P3D
CALSCALE:GREGORIAN
BEGIN:VEVENT
DTSTART:20240718T130000Z
DTEND:20240720T170000Z
X-MICROSOFT-CDO-ALLDAYEVENT:FALSE
SUMMARY:Fundraising Rummage Sale
DESCRIPTION:Spearfish Senior Center Summer Fundraising Rummage Sale July 18th 8am-3pm\, July 19th 8am-3pm\, and July 20th 8am-12pm. Everyone welcome! Lunch\, pies\, and caramel rolls will also be sold. Located at 1306 N 10th St. Spearfish\, SD 57783.
X-ALT-DESC;FMTTYPE=text/html:Spearfish Senior Center Summer Fundraising Rummage Sale July 18th 8am-3pm\, July 19th 8am-3pm\, and July 20th 8am-12pm. Everyone welcome! Lunch\, pies\, and caramel rolls will also be sold. Located at 1306 N 10th St. Spearfish\, SD 57783.
LOCATION:Spearfish Senior Center 1306 N 10th St Spearfish\, SD 57783
UID:e.2381.30218
SEQUENCE:3
DTSTAMP:20260424T100739Z
URL:https://business.spearfishchamber.org/events/details/fundraising-rummage-sale-07-18-2024-30218
END:VEVENT

END:VCALENDAR
