BEGIN:VCALENDAR
VERSION:2.0
PRODID:-//ChamberMaster//Event Calendar 2.0//EN
METHOD:PUBLISH
X-PUBLISHED-TTL:P3D
REFRESH-INTERVAL:P3D
CALSCALE:GREGORIAN
BEGIN:VEVENT
DTSTART:20240323T123000Z
DTEND:20240323T150000Z
X-MICROSOFT-CDO-ALLDAYEVENT:FALSE
SUMMARY:Fundraising Breakfast
DESCRIPTION:"The Spearfish Senior Center will be having their monthly fundraising breakfast on Saturday March 23\, 2024 beginning at 7:30am until 10am. Pancakes\, eggs\, & sausage\, or biscuits with sausage gravy\, & eggs\, will be offered with juice and coffee or tea. Open to the public - everyone welcome! The breakfast will be held at the Spearfish Senior Center located at 1306 N 10th St. Spearfish\, SD 57783."
X-ALT-DESC;FMTTYPE=text/html:&quot\;The Spearfish Senior Center will be having their monthly fundraising breakfast on Saturday March 23\, 2024 beginning at 7:30am until 10am. Pancakes\, eggs\, &amp\; sausage\, or biscuits with sausage gravy\, &amp\; eggs\, will be offered with juice and coffee or tea. Open to the public - everyone welcome! The breakfast will be held at the Spearfish Senior Center located at 1306 N 10th St. Spearfish\, SD 57783.&quot\;
LOCATION:Spearfish Senior Center 1306 N 10th St Spearfish\, SD 57783
UID:e.2381.30155
SEQUENCE:3
DTSTAMP:20260420T054011Z
URL:https://business.spearfishchamber.org/events/details/fundraising-breakfast-03-23-2024-30155
END:VEVENT

END:VCALENDAR
