BEGIN:VCALENDAR
VERSION:2.0
PRODID:-//ChamberMaster//Event Calendar 2.0//EN
METHOD:PUBLISH
X-PUBLISHED-TTL:P3D
REFRESH-INTERVAL:P3D
CALSCALE:GREGORIAN
BEGIN:VEVENT
DTSTART:20240712T160000Z
DTEND:20240712T190000Z
X-MICROSOFT-CDO-ALLDAYEVENT:FALSE
SUMMARY:FREE Nonprofit Workshop - Fundraising
DESCRIPTION:Join us in July for our next Nonprofit Connections workshop in partnership with the United Way of the Black Hills. Learn proven fundraising strategies to enhance your efforts\, gain practical tools\, and build lasting donor connections. Don't miss this opportunity to boost your nonprofit's success and collaborate with fellow local nonprofits to strengthen your network\, share insights\, and discover new opportunities for partnership and growth.
X-ALT-DESC;FMTTYPE=text/html:Join us in July for our next Nonprofit Connections workshop in partnership with the United Way of the Black Hills. Learn proven fundraising strategies to enhance your efforts\, gain practical tools\, and build lasting donor connections. Don&#39\;t miss this opportunity to boost your nonprofit&#39\;s success and collaborate with fellow local nonprofits to strengthen your network\, share insights\, and discover new opportunities for partnership and growth.
LOCATION:The Joy Center\, Spearfish
UID:e.2381.30222
SEQUENCE:3
DTSTAMP:20260423T025134Z
URL:https://business.spearfishchamber.org/events/details/free-nonprofit-workshop-fundraising-30222
END:VEVENT

END:VCALENDAR
