BEGIN:VCALENDAR
VERSION:2.0
PRODID:-//ChamberMaster//Event Calendar 2.0//EN
METHOD:PUBLISH
X-PUBLISHED-TTL:P3D
REFRESH-INTERVAL:P3D
CALSCALE:GREGORIAN
BEGIN:VEVENT
DTSTART:20260611T160000Z
DTEND:20260611T190000Z
X-MICROSOFT-CDO-ALLDAYEVENT:FALSE
SUMMARY:Free Nonprofit Workshop
DESCRIPTION:THURSDAY June 11 Mission in Action: Strategies for Planning\, Executing\, and Evaluating Effective Programs Who is this for? Nonprofit staff and leadership at all levels! Great programs don't just happen\, they're created with thoughtful planning\, clear execution\, and evaluation. This interactive workshop walks nonprofit professionals through the entire program journey\, from the initial idea all the way to measuring results\, by using real-life examples and collaborative activities. Participants will engage in both individual and group exercises that help them apply practical strategies to their own programs. By working together and reflecting on real challenges\, attendees will learn how to: Create clear\, goal-aligned program plans Improve implementation with simple\, effective processes Use data to evaluate impact and tell their program's story Find ways to strengthen\, sustain\, and grow their work Use helpful tools and templates to boost program success The focus is on real-world application\, so you'll leave with practical next steps\, ready-to-use resources\, and greater confidence in running programs that make a meaningful\, measurable difference. As always these workshops are FREE to attend and lunch is provided.
X-ALT-DESC;FMTTYPE=text/html:THURSDAY June 11 Mission in Action: Strategies for Planning\, Executing\, and Evaluating Effective Programs Who is this for? Nonprofit staff and leadership at all levels! Great programs don&rsquo\;t just happen\, they&rsquo\;re created with thoughtful planning\, clear execution\, and evaluation. This interactive workshop walks nonprofit professionals through the entire program journey\, from the initial idea all the way to measuring results\, by using real-life examples and collaborative activities. Participants will engage in both individual and group exercises that help them apply practical strategies to their own programs. By working together and reflecting on real challenges\, attendees will learn how to: Create clear\, goal-aligned program plans Improve implementation with simple\, effective processes Use data to evaluate impact and tell their program&rsquo\;s story Find ways to strengthen\, sustain\, and grow their work Use helpful tools and templates to boost program success The focus is on real-world application\, so you&rsquo\;ll leave with practical next steps\, ready-to-use resources\, and greater confidence in running programs that make a meaningful\, measurable difference. As always these workshops are FREE to attend and lunch is provided.
LOCATION:The Joy Center\, Spearfish
UID:e.2381.30752
SEQUENCE:3
DTSTAMP:20260421T034500Z
URL:https://business.spearfishchamber.org/events/details/free-nonprofit-workshop-06-11-2026-30752
END:VEVENT

END:VCALENDAR
