BEGIN:VCALENDAR
VERSION:2.0
PRODID:-//ChamberMaster//Event Calendar 2.0//EN
METHOD:PUBLISH
X-PUBLISHED-TTL:P3D
REFRESH-INTERVAL:P3D
CALSCALE:GREGORIAN
BEGIN:VEVENT
DTSTART;VALUE=DATE:20240719
DTEND;VALUE=DATE:20240722
TRANSP:TRANSPARENT
X-MICROSOFT-CDO-ALLDAYEVENT:TRUE
SUMMARY:Festival in the Park
DESCRIPTION:July 19: Festival in the Park wristband night\n\nThe Matthews presents the annual Festival in the Park at Spearfish City Park. On Friday\, July 19 the Festival in the Park kicks off with $5 Wristband Night at 4 pm with live music from Quinlan Valdez and\, at 6 pm\, Rushmore Music Festival features Argentinian tango with special guest performer Daniel Binelli. Shop during the cooler hours\, buy from your favorite vendor a day ahead\, and join us for live music in the Watering hole. Pre-purchase your $5 wristbands at Matthews Opera House\, Visit Spearfish\, or Spearfish Area Chamber of Commerce. Wristbands will also be available at the entrances to Spearfish City Park prior to the event. For more information\, contact the Matthews at (605) 642-7973. \n\nJuly 20-21: Festival in the Park\n\nFestival in the Park will continue from 9 am to 6 pm on Saturday\, July 20\, and 10 am to 4 pm on Sunday\, July 21. Live music\, nearly 200 craft and food vendors\, and children's events will be available to patrons. Join us for live music from Caleigh\, the Lucas Olson Trio\, and Jonny & Shel on Saturday\, as well as the Sundance Community Jazz Band on Sunday! Entrance to the Festival is free both days. For more information\, contact the Matthews at (605) 642-7973\, see us at 612 N. Main Street\, Spearfish or visit matthewsopera.com\n\n\n\n\n\n\nhttps://www.matthewsopera.com/festival-in-the-park/
X-ALT-DESC;FMTTYPE=text/html:<p dir="ltr" style="color: rgb(34\, 34\, 34)\; font-family: Arial\, Helvetica\, sans-serif\; font-size: small\; line-height: 1.38\; margin-top: 12pt\; margin-bottom: 0pt\;"><span style="font-size: 11pt\; font-family: Arial\, sans-serif\; background-color: transparent\; font-weight: 700\; font-variant-numeric: normal\; font-variant-east-asian: normal\; font-variant-alternates: normal\; vertical-align: baseline\;">July 19: Festival in the Park wristband night</span><br />\n<span style="font-size: 11pt\; font-family: Arial\, sans-serif\; color: rgb(0\, 0\, 0)\; background-color: transparent\; font-variant-numeric: normal\; font-variant-east-asian: normal\; font-variant-alternates: normal\; vertical-align: baseline\;">The Matthews presents the annual Festival in the Park at Spearfish City Park. On Friday\, July 19 the Festival in the Park kicks off with $5 Wristband Night at 4 pm with live music from Quinlan Valdez and\, at 6 pm\, Rushmore Music Festival features Argentinian tango with special guest performer Daniel Binelli. Shop during the cooler hours\, buy from your favorite vendor a day ahead\, and join us for live music in the Watering hole. Pre-purchase your $5 wristbands at Matthews Opera House\, Visit Spearfish\, or Spearfish Area Chamber of Commerce. Wristbands will also be available at the entrances to Spearfish City Park prior to the event. For more information\, contact the Matthews at (605) 642-7973.&nbsp\;</span></p>\n\n<p dir="ltr" style="color: rgb(34\, 34\, 34)\; font-family: Arial\, Helvetica\, sans-serif\; font-size: small\; line-height: 1.38\; margin-top: 0pt\; margin-bottom: 0pt\; padding: 12pt 0pt 0pt\;"><span style="font-size: 11pt\; font-family: Arial\, sans-serif\; background-color: transparent\; font-weight: 700\; font-variant-numeric: normal\; font-variant-east-asian: normal\; font-variant-alternates: normal\; vertical-align: baseline\;">July 20-21: Festival in the Park</span><br />\n<span style="font-size: 11pt\; font-family: Arial\, sans-serif\; color: rgb(0\, 0\, 0)\; background-color: transparent\; font-variant-numeric: normal\; font-variant-east-asian: normal\; font-variant-alternates: normal\; vertical-align: baseline\;">Festival in the Park will continue from 9 am to 6 pm on Saturday\, July 20\, and 10 am to 4 pm on Sunday\, July 21. Live music\, nearly 200 craft and food vendors\, and children&rsquo\;s events will be available to patrons. Join us for live music from Caleigh\, the Lucas Olson Trio\, and Jonny &amp\; Shel on Saturday\, as well as the Sundance Community Jazz Band on Sunday! Entrance to the Festival is free both days. For more information\, contact the Matthews at (605) 642-7973\, see us at 612 N. Main Street\, Spearfish or visit&nbsp\;<a data-saferedirecturl="https://www.google.com/url?q=http://matthewsopera.com&amp\;source=gmail&amp\;ust=1720715287590000&amp\;usg=AOvVaw3-2B9wlH4rMHsidUrk7YDu" href="http://matthewsopera.com/" style="color: rgb(17\, 85\, 204)\;" target="_blank">matthewsopera.com</a></span></p>\n<br />\n<br />\n<br />\nhttps://www.matthewsopera.com/festival-in-the-park/
LOCATION:
UID:e.2381.30236
SEQUENCE:3
DTSTAMP:20260424T100739Z
URL:https://business.spearfishchamber.org/events/details/festival-in-the-park-30236
END:VEVENT

END:VCALENDAR
