BEGIN:VCALENDAR
VERSION:2.0
PRODID:-//ChamberMaster//Event Calendar 2.0//EN
METHOD:PUBLISH
X-PUBLISHED-TTL:P3D
REFRESH-INTERVAL:P3D
CALSCALE:GREGORIAN
BEGIN:VEVENT
DTSTART;VALUE=DATE:20230714
DTEND;VALUE=DATE:20230717
TRANSP:TRANSPARENT
X-MICROSOFT-CDO-ALLDAYEVENT:TRUE
SUMMARY:FESTIVAL IN THE PARK
DESCRIPTION:Join thousands of locals and visitors for a festive stroll through Spearfish City Park\, enjoying the sights and sounds of one of the largest and most popular artist events in the Black Hills. The annual Festival in the Park attracts more than 200 regional vendors offering items from art and jewelry to food and furniture. Take in some live music at The Watering Hole\, browse for unique art items and gifts\, and enjoy a wide variety of food and beverage vendors.
X-ALT-DESC;FMTTYPE=text/html:<span style="font-family:arial\;"><span style="font-size: 18px\;">Join thousands of locals and visitors for a festive stroll through Spearfish City Park\, enjoying the sights and sounds of one of the largest and most popular artist events in the Black Hills. The annual Festival in the Park attracts more than 200 regional vendors offering items from art and jewelry to food and furniture. Take in some live&nbsp\;music at The Watering Hole\, browse for unique art items and gifts\, and enjoy a wide variety of food and beverage vendors.</span></span>
LOCATION:
UID:e.2381.29808
SEQUENCE:3
DTSTAMP:20260421T012318Z
URL:https://business.spearfishchamber.org/events/details/festival-in-the-park-29808
END:VEVENT

END:VCALENDAR
