BEGIN:VCALENDAR
VERSION:2.0
PRODID:-//ChamberMaster//Event Calendar 2.0//EN
METHOD:PUBLISH
X-PUBLISHED-TTL:P3D
REFRESH-INTERVAL:P3D
CALSCALE:GREGORIAN
BEGIN:VEVENT
DTSTART:20230731T160000Z
DTEND:20230731T200000Z
X-MICROSOFT-CDO-ALLDAYEVENT:FALSE
SUMMARY:Fellowship of Christian Athletes Tournament - Open to all
DESCRIPTION:Fellowship of Christian Athletes Tournament The day will be full of golf\, fellowship\, multiple hole contests as well as a longest drive\, an accuracy challenge\, and putting competition. This fundraising event will help establish impactful FCA staff and huddle development\, and coaches/athlete Bible Study development. For more information and registration visit our website.
X-ALT-DESC;FMTTYPE=text/html:Fellowship of Christian Athletes Tournament The day will be full of golf\, fellowship\, multiple hole contests as well as a longest drive\, an accuracy challenge\, and putting competition. This fundraising event will help establish impactful FCA staff and huddle development\, and coaches/athlete Bible Study development. For more information and registration visit our website.
LOCATION:The Golf Club at Devils Tower 77 Tower View Drive\, Hulett\, Wy
UID:e.2381.29805
SEQUENCE:3
DTSTAMP:20260420T211721Z
URL:https://business.spearfishchamber.org/events/details/fellowship-of-christian-athletes-tournament-open-to-all-29805
END:VEVENT

END:VCALENDAR
