BEGIN:VCALENDAR
VERSION:2.0
PRODID:-//ChamberMaster//Event Calendar 2.0//EN
METHOD:PUBLISH
X-PUBLISHED-TTL:P3D
REFRESH-INTERVAL:P3D
CALSCALE:GREGORIAN
BEGIN:VEVENT
DTSTART:20231111T023000Z
DTEND:20231111T040000Z
X-MICROSOFT-CDO-ALLDAYEVENT:FALSE
SUMMARY:Drop Dead: A Non-Stop Comedy
DESCRIPTION:BHSU Theatre proudly presents Dead Dead: A Non-Stop Comedy in the Blackbox Theatre! Directed by Casey Hibbert. Learn more at https://www.bhsu.edu/academics/arts-humanities/Theatre-Program/Current-Season
X-ALT-DESC;FMTTYPE=text/html:BHSU Theatre proudly presents Dead Dead: A Non-Stop Comedy in the Blackbox Theatre! Directed by Casey Hibbert. Learn more at&nbsp\;<a href="https://www.bhsu.edu/academics/arts-humanities/Theatre-Program/Current-Season">https://www.bhsu.edu/academics/arts-humanities/Theatre-Program/Current-Season</a>
LOCATION:Blackbox Theatre Black Hills State University Woodburn Hall 3rd Floor
UID:e.2381.29871
SEQUENCE:3
DTSTAMP:20260420T051628Z
URL:https://business.spearfishchamber.org/events/details/drop-dead-a-non-stop-comedy-29871
END:VEVENT

END:VCALENDAR
