BEGIN:VCALENDAR
VERSION:2.0
PRODID:-//ChamberMaster//Event Calendar 2.0//EN
METHOD:PUBLISH
X-PUBLISHED-TTL:P3D
REFRESH-INTERVAL:P3D
CALSCALE:GREGORIAN
BEGIN:VEVENT
DTSTART:20230715T000000Z
DTEND:20230715T030000Z
X-MICROSOFT-CDO-ALLDAYEVENT:FALSE
SUMMARY:Downtown Friday Nights-Music by The Rathco
DESCRIPTION:Summertime Live Music in Downtown Spearfish every Friday 6 9 PM starting on June 9 through July 28!\n\n\n\nLive music\, food\, beer\, crafts\, and activities for kids. This downtown block party has everything you need for a fun-filled evening with friends and family!\n\n\n\nCheck out www.facebook.com/downtownfridaynights for 2023 entertainment line-up!
X-ALT-DESC;FMTTYPE=text/html:Summertime Live Music in Downtown Spearfish every Friday 6&ndash\;9 PM starting on June 9 through July 28!<br />\n<br />\nLive music\, food\, beer\, crafts\, and activities for kids. This downtown block party has everything you need for a fun-filled evening with friends and family!<br />\n<br />\nCheck out&nbsp\;<a href="https://www.facebook.com/downtownfridaynights">www.facebook.com/downtownfridaynights</a> for 2023 entertainment line-up!
LOCATION:Main Street\, Spearfish
UID:e.2381.29674
SEQUENCE:3
DTSTAMP:20260420T205907Z
URL:https://business.spearfishchamber.org/events/details/downtown-friday-nights-music-by-the-rathco-29674
END:VEVENT

END:VCALENDAR
