BEGIN:VCALENDAR
VERSION:2.0
PRODID:-//ChamberMaster//Event Calendar 2.0//EN
METHOD:PUBLISH
X-PUBLISHED-TTL:P3D
REFRESH-INTERVAL:P3D
CALSCALE:GREGORIAN
BEGIN:VEVENT
DTSTART:20240719T223000Z
DTEND:20240720T020000Z
X-MICROSOFT-CDO-ALLDAYEVENT:FALSE
SUMMARY:Downtown Friday Nights
DESCRIPTION:Music by Sargeant Rock
X-ALT-DESC;FMTTYPE=text/html:Music by Sargeant Rock
LOCATION:Main Street\, Spearfish\, SD
UID:e.2381.30181
SEQUENCE:3
DTSTAMP:20260424T095439Z
URL:https://business.spearfishchamber.org/events/details/downtown-friday-nights-30181
END:VEVENT

END:VCALENDAR
