BEGIN:VCALENDAR
VERSION:2.0
PRODID:-//ChamberMaster//Event Calendar 2.0//EN
METHOD:PUBLISH
X-PUBLISHED-TTL:P3D
REFRESH-INTERVAL:P3D
CALSCALE:GREGORIAN
BEGIN:VEVENT
DTSTART:20260311T000000Z
DTEND:20260311T020000Z
X-MICROSOFT-CDO-ALLDAYEVENT:FALSE
SUMMARY:Cook and Connect: Hands-On Cooking Class - The Hook Young Professionals
DESCRIPTION:Join the Hook   Young Professionals Group for a fun evening of cooking at the CTE Center in the Spearfish High School FACS classroom! Join Head Chef Mark Larson and Sous Chef Ashley Schultz from the beloved Buffalo Jump Steakhouse & Saloon as they share culinary expertise and guide us through delicious recipes. Whether you're a seasoned cook or just starting out\, this interactive class is a great opportunity to sharpen your skills\, meet fellow young professionals\, and enjoy some tasty treats. Don't miss out on this delightful evening of food and friendship!\n\n\n\nLIMITED SPOTS AVAILABLE\n\n  \n\n\n\nThank you to The Hook's 2026 sponsors: Black Hills Energy | Blind Guy of the Black Hills | Bluepeak | Coeur Mining | Lighthouse Construction | Platinum Car Brokers | SDN Communications | Gregg Fullerton - State Farm Agent | Sundance State Bank | Wolff's Plumbing & Heating
X-ALT-DESC;FMTTYPE=text/html:<span style="font-family: arial\;"><span style="font-size: 14px\;">Join the Hook &ndash\; Young Professionals Group for a fun evening of cooking at the CTE Center in the Spearfish High School FACS classroom! Join Head Chef Mark Larson and Sous Chef Ashley Schultz from the beloved Buffalo Jump Steakhouse &amp\; Saloon as they share culinary expertise and guide us through delicious recipes. Whether you&rsquo\;re a seasoned cook or just starting out\, this interactive class is a great opportunity to sharpen your skills\, meet fellow young professionals\, and enjoy some tasty treats. Don&rsquo\;t miss out on this delightful evening of food and friendship!<br />\n<br />\n<span style="color: rgb(34\, 34\, 34)\;">LIMITED SPOTS AVAILABLE</span><br />\n&mdash\;&mdash\;<br />\n<br />\nThank you to The Hook&#39\;s 2026 sponsors:&nbsp\;</span></span><span style="color: rgb(0\, 0\, 0)\; font-family: &quot\;Helvetica Neue&quot\;\;">Black Hills Energy&nbsp\;</span><span style="color: rgb(0\, 0\, 0)\; font-family: &quot\;Helvetica Neue&quot\;\;">| Blind Guy of the Black Hills</span><span style="color: rgb(0\, 0\, 0)\; font-family: &quot\;Helvetica Neue&quot\;\;">&nbsp\;| Bluepeak</span><span style="color: rgb(0\, 0\, 0)\; font-family: &quot\;Helvetica Neue&quot\;\;">&nbsp\;</span><span style="color: rgb(0\, 0\, 0)\; font-family: &quot\;Helvetica Neue&quot\;\;">| Coeur Mining&nbsp\;</span><span style="color: rgb(0\, 0\, 0)\; font-family: &quot\;Helvetica Neue&quot\;\;">| Lighthouse Construction</span><span style="color: rgb(0\, 0\, 0)\; font-family: &quot\;Helvetica Neue&quot\;\;">&nbsp\;| Platinum Car Brokers&nbsp\;</span><span style="color: rgb(0\, 0\, 0)\; font-family: &quot\;Helvetica Neue&quot\;\;">| SDN Communications</span><span style="color: rgb(0\, 0\, 0)\; font-family: &quot\;Helvetica Neue&quot\;\;">&nbsp\;</span><span style="color: rgb(0\, 0\, 0)\; font-family: &quot\;Helvetica Neue&quot\;\;">| Gregg Fullerton - State Farm Agent</span><span style="color: rgb(0\, 0\, 0)\; font-family: &quot\;Helvetica Neue&quot\;\;">&nbsp\;</span><span style="color: rgb(0\, 0\, 0)\; font-family: &quot\;Helvetica Neue&quot\;\;">| Sundance State Bank&nbsp\;</span><span style="color: rgb(0\, 0\, 0)\; font-family: &quot\;Helvetica Neue&quot\;\;">| Wolff&#39\;s Plumbing &amp\; Heating</span>
LOCATION:Spearfish High School\, CTE Center\, FACS Classroom 1824 Spirit Lane\, Spearfish\, SD\, 57783
UID:e.2381.30706
SEQUENCE:3
DTSTAMP:20260424T020032Z
URL:https://business.spearfishchamber.org/events/details/cook-and-connect-hands-on-cooking-class-the-hook-young-professionals-30706
END:VEVENT

END:VCALENDAR
