BEGIN:VCALENDAR
VERSION:2.0
PRODID:-//ChamberMaster//Event Calendar 2.0//EN
METHOD:PUBLISH
X-PUBLISHED-TTL:P3D
REFRESH-INTERVAL:P3D
CALSCALE:GREGORIAN
BEGIN:VEVENT
DTSTART:20241107T153000Z
DTEND:20241107T163000Z
X-MICROSOFT-CDO-ALLDAYEVENT:FALSE
SUMMARY:Coffee & Conversation - Lead
DESCRIPTION:Let's get together and share the love and coffee on Thursday\, November 7th at 8:30 a.m. - 9:30 a.m. at Lotus Up Espresso & Deli in Lead! Meet other women in business in the Black Hills region and get your day started off right with some powerful connections\, inspiration\, and great conversation. Entrepreneurs\, aspiring entrepreneurs\, business owners\, students\, and intrapreneurs those who work for a company\, municipality\, higher education\, or nonprofit all women are welcome. There is no cost to attend\, and Lotus Up Espresso & Deli will provide free black coffee for registered attendees. Specialty drinks and treats will be available for purchase. Please register so we know you are coming!
X-ALT-DESC;FMTTYPE=text/html:Let&#39\;s get together and share the love and coffee on Thursday\, November 7th at 8:30 a.m. - 9:30 a.m. at Lotus Up Espresso &amp\; Deli in Lead! Meet other women in business in the Black Hills region and get your day started off right with some powerful connections\, inspiration\, and great conversation. Entrepreneurs\, aspiring entrepreneurs\, business owners\, students\, and intrapreneurs&mdash\;those who work for a company\, municipality\, higher education\, or nonprofit&mdash\;all women are welcome. There is no cost to attend\, and Lotus Up Espresso &amp\; Deli will provide free black coffee for registered attendees. Specialty drinks and treats will be available for purchase. Please register so we know you are coming!
LOCATION:Lotus Up 95 E Main St. #3\, Lead SD 57754
UID:e.2381.30321
SEQUENCE:3
DTSTAMP:20260421T232705Z
URL:https://business.spearfishchamber.org/events/details/coffee-conversation-lead-30321
END:VEVENT

END:VCALENDAR
